BEGIN:VCALENDAR
VERSION:2.0
PRODID:-//serbski-kucik.de - ECPv4.9.14//NONSGML v1.0//EN
CALSCALE:GREGORIAN
METHOD:PUBLISH
X-WR-CALNAME:serbski-kucik.de
X-ORIGINAL-URL:https://serbski-kucik.de
X-WR-CALDESC:Veranstaltungen für serbski-kucik.de
BEGIN:VTIMEZONE
TZID:Europe/Berlin
BEGIN:DAYLIGHT
TZOFFSETFROM:+0100
TZOFFSETTO:+0200
TZNAME:CEST
DTSTART:20200329T010000
END:DAYLIGHT
BEGIN:STANDARD
TZOFFSETFROM:+0200
TZOFFSETTO:+0100
TZNAME:CET
DTSTART:20201025T010000
END:STANDARD
END:VTIMEZONE
BEGIN:VEVENT
DTSTART;TZID=Europe/Berlin:20200606T130000
DTEND;TZID=Europe/Berlin:20201031T170000
DTSTAMP:20260420T190242
CREATED:20201006T092720Z
LAST-MODIFIED:20201006T092720Z
UID:948-1591448400-1604163600@serbski-kucik.de
SUMMARY:Wustajeńca wo Serbach a narodnej drasće
DESCRIPTION:Wustajeńca w hrodźe\, wot Petry Kupcynej \nzastup: 2\,50€ \nwotewrjene:\nsrjedu/ štwórtk: 13 – 17 hodź\npjatko/sobotu/njedźelu+swjate dny přidatnje: 10:00 – 12 hodź \n
URL:https://serbski-kucik.de/event/wustajenca-wo-serbach-a-narodnej-drasce/
LOCATION:Njeswačidło\, Hród
CATEGORIES:Kultura
ATTACH;FMTTYPE=image/jpeg:https://serbski-kucik.de/wp-content/uploads/2020/10/b4907cfb4d51ac508118be3dd7da6002_desktop.jpeg
END:VEVENT
END:VCALENDAR