BEGIN:VCALENDAR
VERSION:2.0
PRODID:-//serbski-kucik.de - ECPv4.9.14//NONSGML v1.0//EN
CALSCALE:GREGORIAN
METHOD:PUBLISH
X-WR-CALNAME:serbski-kucik.de
X-ORIGINAL-URL:https://serbski-kucik.de
X-WR-CALDESC:Veranstaltungen für serbski-kucik.de
BEGIN:VTIMEZONE
TZID:Europe/Berlin
BEGIN:DAYLIGHT
TZOFFSETFROM:+0100
TZOFFSETTO:+0200
TZNAME:CEST
DTSTART:20250330T010000
END:DAYLIGHT
BEGIN:STANDARD
TZOFFSETFROM:+0200
TZOFFSETTO:+0100
TZNAME:CET
DTSTART:20251026T010000
END:STANDARD
END:VTIMEZONE
BEGIN:VEVENT
DTSTART;TZID=Europe/Berlin:20250606T160000
DTEND;TZID=Europe/Berlin:20250606T200000
DTSTAMP:20260420T192406
CREATED:20250204T142207Z
LAST-MODIFIED:20250204T142207Z
UID:3260-1749225600-1749240000@serbski-kucik.de
SUMMARY:Wušiwanje a wjazanje křižerskich seklow
DESCRIPTION: \nKurs: Wušiwanje a wjazanje křižerskich seklow \nnawod: Delia Münschowa\, diplomowa tekstilowa fachowča\nšto: płone wušiwanje a wjazanje křižerskeje sekle \nterminy:\n21.03.2025 | wjazanje sekle z Kristin Belkotowej\n28.03. a 11.04.2025 | wušiwanje (naćisk)\n09.05.\, 23.05 a 06.06.2025 | wušiwanje \nměstnosć: Serbski dom w Budyšinje (Póstowe naměsto 2)\nličba: maks. 8 wobdźělnikow\npopłatk: za cyłowny kurs 40\,00 € ( za čłonow towarstwa 30\,00 €) \nProšu přinjesće sebi swójski material sobu.\nMóžeće sej jón pak tež za 15\,00 € kupić. \nPřizjewće so prošu hač do 10 měrca 2025 pola projektneje managerki Domowiny pod rejzka.kruegerowa@domowina.de abo 03591 550291. \n
URL:https://serbski-kucik.de/event/wusiwanje-a-wjazanje-krizerskich-seklow/2025-06-06/
CATEGORIES:Kultura,Wuměłstwo
ATTACH;FMTTYPE=image/jpeg:https://serbski-kucik.de/wp-content/uploads/2025/02/kurs_wusiwanje-a-wjazanje-krizerskich-seklow.jpg
END:VEVENT
END:VCALENDAR