BEGIN:VCALENDAR
VERSION:2.0
PRODID:-//serbski-kucik.de - ECPv4.9.14//NONSGML v1.0//EN
CALSCALE:GREGORIAN
METHOD:PUBLISH
X-WR-CALNAME:serbski-kucik.de
X-ORIGINAL-URL:https://serbski-kucik.de
X-WR-CALDESC:Veranstaltungen für serbski-kucik.de
BEGIN:VTIMEZONE
TZID:Europe/Berlin
BEGIN:DAYLIGHT
TZOFFSETFROM:+0100
TZOFFSETTO:+0200
TZNAME:CEST
DTSTART:20200329T010000
END:DAYLIGHT
BEGIN:STANDARD
TZOFFSETFROM:+0200
TZOFFSETTO:+0100
TZNAME:CET
DTSTART:20201025T010000
END:STANDARD
END:VTIMEZONE
BEGIN:VEVENT
DTSTART;TZID=Europe/Berlin:20200412T120000
DTEND;TZID=Europe/Berlin:20200412T140000
DTSTAMP:20260424T105040
CREATED:20200320T152548Z
LAST-MODIFIED:20200330T071349Z
UID:529-1586692800-1586700000@serbski-kucik.de
SUMMARY:Wotrow na Njebjelčicy
DESCRIPTION:\nwotprajene\n12.00 – 14.00 hodź\nWotrow\, Jawora\, Miłoćicy\, Njebjelčicy\nPuć wróćo: 15.30 – 17.30 hodź\nNjenjelčicy\, Serbske Pazlicy\, Miłoćicy\, Jawora\, Wotrow \n
URL:https://serbski-kucik.de/event/wotrow-na-njebjelcicy/
CATEGORIES:Nabožina
ATTACH;FMTTYPE=image/jpeg:https://serbski-kucik.de/wp-content/uploads/2020/03/Ostro.jpg
END:VEVENT
END:VCALENDAR