BEGIN:VCALENDAR
VERSION:2.0
PRODID:-//serbski-kucik.de - ECPv4.9.14//NONSGML v1.0//EN
CALSCALE:GREGORIAN
METHOD:PUBLISH
X-WR-CALNAME:serbski-kucik.de
X-ORIGINAL-URL:https://serbski-kucik.de
X-WR-CALDESC:Veranstaltungen für serbski-kucik.de
BEGIN:VTIMEZONE
TZID:Europe/Berlin
BEGIN:DAYLIGHT
TZOFFSETFROM:+0100
TZOFFSETTO:+0200
TZNAME:CEST
DTSTART:20200329T010000
END:DAYLIGHT
BEGIN:STANDARD
TZOFFSETFROM:+0200
TZOFFSETTO:+0100
TZNAME:CET
DTSTART:20201025T010000
END:STANDARD
END:VTIMEZONE
BEGIN:VEVENT
DTSTART;TZID=Europe/Berlin:20201008T180000
DTEND;TZID=Europe/Berlin:20201008T200000
DTSTAMP:20260420T224205
CREATED:20201006T085515Z
LAST-MODIFIED:20201006T085515Z
UID:944-1602180000-1602187200@serbski-kucik.de
SUMMARY:Wotewrjenje wustajeńcy "Krabat - nic jenož legenda"
DESCRIPTION:Mólby\, rysowanki a skulptury wot wuměłca Jörga Tauscha\, kotryž je za swoje wobrazy Krabata samo w Chorwatskej slědźił. Při wotewrjenju zhonimy tež zajimałe informacije k wosobje Janko Šajatowić\, w Serbach „Chorwat“ (Krabat) mjenowany. Předstajić budźe to Kulowski genealoga H.J Schröter\, kiž budźe prěni raz 22.10. w SKI k tomu přednošować. \n
URL:https://serbski-kucik.de/event/wotewrjenje-wustajency-krabat-nic-jenoz-legenda/
LOCATION:Serbska kulturna informacija Budyšin
CATEGORIES:Wuměłstwo
ATTACH;FMTTYPE=image/jpeg:https://serbski-kucik.de/wp-content/uploads/2020/10/673a34a6469e3ef064b5b7631dceef33_desktop.jpeg
END:VEVENT
END:VCALENDAR