BEGIN:VCALENDAR
VERSION:2.0
PRODID:-//serbski-kucik.de - ECPv4.9.14//NONSGML v1.0//EN
CALSCALE:GREGORIAN
METHOD:PUBLISH
X-WR-CALNAME:serbski-kucik.de
X-ORIGINAL-URL:https://serbski-kucik.de
X-WR-CALDESC:Veranstaltungen für serbski-kucik.de
BEGIN:VTIMEZONE
TZID:Europe/Berlin
BEGIN:DAYLIGHT
TZOFFSETFROM:+0100
TZOFFSETTO:+0200
TZNAME:CEST
DTSTART:20250330T010000
END:DAYLIGHT
BEGIN:STANDARD
TZOFFSETFROM:+0200
TZOFFSETTO:+0100
TZNAME:CET
DTSTART:20251026T010000
END:STANDARD
END:VTIMEZONE
BEGIN:VEVENT
DTSTART;TZID=Europe/Berlin:20250218T090000
DTEND;TZID=Europe/Berlin:20250218T140000
DTSTAMP:20260420T230253
CREATED:20250204T144541Z
LAST-MODIFIED:20250204T144541Z
UID:3268-1739869200-1739887200@serbski-kucik.de
SUMMARY:Workshop: šiće z šijawu
DESCRIPTION:Workshop: šiće z šijawu\nze šwalču Katrin Sěnowej \nHdy? / Wann?\n17.02. – 19.02.2025\n9.00 – 14.00 hodź. / Uhr \nHdźe? / Wo?\nLIPA Smjerdźaca / LIPA Schmerlitz \nŠtó? / Wer?\ndźěći wot 9 lět / Kinder ab dem 9. Lebensjahr \nPopłatk / Beitrag\n60\,00 € \nWažne! / Wichtig!\nswójska šijawa je trěbna / eine Nähmaschine wird benötigt \nPřizjewće so tule:\nlipa@sorbischer-schulverein.de\nabo 0172 7811959 \n
URL:https://serbski-kucik.de/event/workshop-sice-z-sijawu/2025-02-18/
CATEGORIES:Swójby
ATTACH;FMTTYPE=image/jpeg:https://serbski-kucik.de/wp-content/uploads/2025/02/Workshop_sice-z-sijawu.jpg
END:VEVENT
END:VCALENDAR