BEGIN:VCALENDAR
VERSION:2.0
PRODID:-//serbski-kucik.de - ECPv4.9.14//NONSGML v1.0//EN
CALSCALE:GREGORIAN
METHOD:PUBLISH
X-WR-CALNAME:serbski-kucik.de
X-ORIGINAL-URL:https://serbski-kucik.de
X-WR-CALDESC:Veranstaltungen für serbski-kucik.de
BEGIN:VTIMEZONE
TZID:Europe/Berlin
BEGIN:DAYLIGHT
TZOFFSETFROM:+0100
TZOFFSETTO:+0200
TZNAME:CEST
DTSTART:20200329T010000
END:DAYLIGHT
BEGIN:STANDARD
TZOFFSETFROM:+0200
TZOFFSETTO:+0100
TZNAME:CET
DTSTART:20201025T010000
END:STANDARD
END:VTIMEZONE
BEGIN:VEVENT
DTSTART;TZID=Europe/Berlin:20200508T193000
DTEND;TZID=Europe/Berlin:20200508T230000
DTSTAMP:20260420T183618
CREATED:20200320T155302Z
LAST-MODIFIED:20200330T071328Z
UID:541-1588966200-1588978800@serbski-kucik.de
SUMMARY:Wobkuzłaca klasika special
DESCRIPTION:\nwotprajene\n08.05.2020 | 19.30 hodź\nBudyšin\, Ruina Mnišeje cyrkwje\nz twórbami filma\, musicala a klasiki\nW rjedźe „Wobkuzłaca klasika special“ pokazuja orchester Serbskeho ludoweho ansambla pod nawodom Andreasa Pabsta znowa jich wulku wjelestronskosć w programach a skića hudźbu za kóžde wucho. Podpěru dóstanje orchester wot spěwneju solistow Jae-Hyung Cho (bariton) a Jany Marie Gropp (sopran). Poslednja z njeju njeje jenož wulkotna solistka\, ale připódla tež lěkarka. Hudźbnje je wona wosebje na musical wusměrjena a přeswědčeše hižo w tójšto rólach.\nŠtož Wolfgang Amadeus Mozart za klasiku woznamjenja\, je Andrew Lloyd Webber za musical. Ze swojej hudźbu za „Das Phantom der Oper” sta so wón mjezynarodnje znaty. Dalši wjeršk programa je titul „Märchen schreibt die Zeit“ ze znateho musicala „Die Schöne und das Biest“.\nJohn Williams pak bu z filmowej hudźbu sławny. Ze swojej kompoziciju k mišterskemu filmej „Schindlers Liste” Stevena Spielberga žněješe wón 1994 jedyn z pjeć oscarow. Lěto pozdźišo nominowaše so tež hudźba Alana Silvestrija za filmowy klasikar „Forrest Gump” za oscara\, kiž zaklinći tohorunja w koncerće. Twórby serbskich komponistow Detlefa Kobjele a Jurija Pilka skulojća jónkrótny program.\nSLA Budyšin https://www.ansambl.de/hsb/repertoire/hudzbny-program/wobkuzlaca-klasika-special/ \n
URL:https://serbski-kucik.de/event/wobkuzlaca-klasika-special/
CATEGORIES:Dźiwadło
ATTACH;FMTTYPE=image/jpeg:https://serbski-kucik.de/wp-content/uploads/2020/03/Wobkuzłaca-klasika-special.jpg
END:VEVENT
END:VCALENDAR