BEGIN:VCALENDAR
VERSION:2.0
PRODID:-//serbski-kucik.de - ECPv4.9.14//NONSGML v1.0//EN
CALSCALE:GREGORIAN
METHOD:PUBLISH
X-WR-CALNAME:serbski-kucik.de
X-ORIGINAL-URL:https://serbski-kucik.de
X-WR-CALDESC:Veranstaltungen für serbski-kucik.de
BEGIN:VTIMEZONE
TZID:Europe/Berlin
BEGIN:DAYLIGHT
TZOFFSETFROM:+0100
TZOFFSETTO:+0200
TZNAME:CEST
DTSTART:20230326T010000
END:DAYLIGHT
BEGIN:STANDARD
TZOFFSETFROM:+0200
TZOFFSETTO:+0100
TZNAME:CET
DTSTART:20231029T010000
END:STANDARD
END:VTIMEZONE
BEGIN:VEVENT
DTSTART;TZID=Europe/Berlin:20230107T194500
DTEND;TZID=Europe/Berlin:20230107T210000
DTSTAMP:20260421T155945
CREATED:20221117T145617Z
LAST-MODIFIED:20221121T080342Z
UID:1951-1673120700-1673125200@serbski-kucik.de
SUMMARY:Wo putnikowanju do Krupki
DESCRIPTION:Wo putnikowanju do Krupki – Marcel Hoza\, Diana Wowčerjowa a Bosco Hojer (in sorbischer Sprache) \nWšě zarjadowanja za dorosćenych su sobotu po wječornych kemšach.\nAlle Veranstaltungen für Erwachsene finden nach dem Abendgottesdienst statt.\nZměny su móžne – Änderungen sind möglich. Eintritt frei. Spende erbeten. \nWutrobnje přeprošuje – Monika Gerdesowa \n
URL:https://serbski-kucik.de/event/wo-putnikowanju-do-krupki/
LOCATION:Putniska oaza\, Chrósćicy
CATEGORIES:Kultura,Młodźina
ATTACH;FMTTYPE=image/jpeg:https://serbski-kucik.de/wp-content/uploads/2022/11/20230107_Putnikowanje-do-Krupki-nowe-scaled.jpg
END:VEVENT
END:VCALENDAR