BEGIN:VCALENDAR
VERSION:2.0
PRODID:-//serbski-kucik.de - ECPv4.9.14//NONSGML v1.0//EN
CALSCALE:GREGORIAN
METHOD:PUBLISH
X-WR-CALNAME:serbski-kucik.de
X-ORIGINAL-URL:https://serbski-kucik.de
X-WR-CALDESC:Veranstaltungen für serbski-kucik.de
BEGIN:VTIMEZONE
TZID:Europe/Berlin
BEGIN:DAYLIGHT
TZOFFSETFROM:+0100
TZOFFSETTO:+0200
TZNAME:CEST
DTSTART:20250330T010000
END:DAYLIGHT
BEGIN:STANDARD
TZOFFSETFROM:+0200
TZOFFSETTO:+0100
TZNAME:CET
DTSTART:20251026T010000
END:STANDARD
END:VTIMEZONE
BEGIN:VEVENT
DTSTART;TZID=Europe/Berlin:20250808T170000
DTEND;TZID=Europe/Berlin:20250810T170000
DTSTAMP:20260420T230457
CREATED:20250508T121823Z
LAST-MODIFIED:20250508T121823Z
UID:3426-1754672400-1754845200@serbski-kucik.de
SUMMARY:Wjesny swjedźeń Njebjelčicy
DESCRIPTION:
URL:https://serbski-kucik.de/event/wjesny-swjedzen-njebjelcicy/
CATEGORIES:Kultura,Młodźina,Swójby
ATTACH;FMTTYPE=image/jpeg:https://serbski-kucik.de/wp-content/uploads/2025/05/wjesny-swejedzen.jpeg
END:VEVENT
END:VCALENDAR