BEGIN:VCALENDAR
VERSION:2.0
PRODID:-//serbski-kucik.de - ECPv4.9.14//NONSGML v1.0//EN
CALSCALE:GREGORIAN
METHOD:PUBLISH
X-WR-CALNAME:serbski-kucik.de
X-ORIGINAL-URL:https://serbski-kucik.de
X-WR-CALDESC:Veranstaltungen für serbski-kucik.de
BEGIN:VTIMEZONE
TZID:Europe/Berlin
BEGIN:DAYLIGHT
TZOFFSETFROM:+0100
TZOFFSETTO:+0200
TZNAME:CEST
DTSTART:20200329T010000
END:DAYLIGHT
BEGIN:STANDARD
TZOFFSETFROM:+0200
TZOFFSETTO:+0100
TZNAME:CET
DTSTART:20201025T010000
END:STANDARD
END:VTIMEZONE
BEGIN:VEVENT
DTSTART;TZID=Europe/Berlin:20200717T190000
DTEND;TZID=Europe/Berlin:20200719T230000
DTSTAMP:20260422T094048
CREATED:20200716T075457Z
LAST-MODIFIED:20200716T080213Z
UID:670-1595012400-1595199600@serbski-kucik.de
SUMMARY:United Culture of Kulow
DESCRIPTION:\nUnited Clubs For Kulow přeprošuje wšitkich zajimcow pjatk\, 17.07.2020 wot 19 hodź. na filmowy wječork. Tu pokaza so film: „Der Junge muss an die frische Luft“. Zastup je tu 5€. Sobotu\, 18.07.2020 wuhotuje so wot 19 hodź. „BurgerBingo”. Nimo hrajneho wječorka skići so tu tež program z někotrymi přidawkami\, kaž na př. darmotny palenc při palencowych ličbach. Jako přikusk dawaja samoćinjene burgery\, kotřiž móźa so indiwidualnje hromadźe zestajeć. Njedźelu\, 19.07.2020 skići so wopytowarjam wot 21 hodź. zaso „Tatort”. Zastup je pak hižo wot 18 hodź. móžny.\nNa ležownosći stareho dźěćaceho domu „Jakubetzstift”.\nZastup: vom Brauereihof \nProsymy wo přizjewenje pod info@united-clubs.de abo přez 017871819414.\nNa wšitkich wječorach dawa wězo tež wječorna kasa. Městna pak su tu wobmjezowane. \n
URL:https://serbski-kucik.de/event/united-culture-of-kulow/
CATEGORIES:Młodźina
ATTACH;FMTTYPE=image/png:https://serbski-kucik.de/wp-content/uploads/2020/07/Filmveröffentlichung_der-junge-muss-an-die-frische-luft-3.png
END:VEVENT
END:VCALENDAR