BEGIN:VCALENDAR
VERSION:2.0
PRODID:-//serbski-kucik.de - ECPv4.9.14//NONSGML v1.0//EN
CALSCALE:GREGORIAN
METHOD:PUBLISH
X-WR-CALNAME:serbski-kucik.de
X-ORIGINAL-URL:https://serbski-kucik.de
X-WR-CALDESC:Veranstaltungen für serbski-kucik.de
BEGIN:VTIMEZONE
TZID:Europe/Berlin
BEGIN:DAYLIGHT
TZOFFSETFROM:+0100
TZOFFSETTO:+0200
TZNAME:CEST
DTSTART:20200329T010000
END:DAYLIGHT
BEGIN:STANDARD
TZOFFSETFROM:+0200
TZOFFSETTO:+0100
TZNAME:CET
DTSTART:20201025T010000
END:STANDARD
END:VTIMEZONE
BEGIN:VEVENT
DTSTART;TZID=Europe/Berlin:20200814T193000
DTEND;TZID=Europe/Berlin:20200816T233000
DTSTAMP:20260421T004622
CREATED:20200811T132919Z
LAST-MODIFIED:20200811T132919Z
UID:790-1597433400-1597620600@serbski-kucik.de
SUMMARY:United Culture for Kulow
DESCRIPTION:\nWot 14.08.2020 do 16.08.2020 přewjedźe so 3. wudaće wot „United Culture for Kulow“ přewjesć.\nNa programje steji: \nPjatk: 14.08.2020: filmowy wječer z francoskej filmowej komediju „Monsieur Claude und seine Töchter“\nZastup je wot 19:30 hodź. móžny. Film pokaza so w 21 hodź.\, Zastup płaći 4€. \nSobotu: 15.08.2020: 1. Kulowski Poetry Slam\nZastup je wot 19:30 hodź. móžny. Poetry Slam započina so w 20 hodź.\, Zastup płaći 3€. \nNjedźelu: Zhromadnje Tatort hladamy\nZastup je wot 18:00 hodź. móžny. Zastup je darmotny. \nZastup při wjećernej kasy je kóždy dźeń móžny.\nProsymy tohodla wo přizjewjenje pod info@united-clubs.de abo přez tel. čisło: 0178/1819414.\nZachod k našej ležownosći namaka so na stronje piwarskeho dwóra. Na wšitkich dnjach je za ćělne derjeměće postarane. \n
URL:https://serbski-kucik.de/event/united-culture-for-kulow/
LOCATION:Kulow
CATEGORIES:Kultura,Młodźina
ATTACH;FMTTYPE=image/jpeg:https://serbski-kucik.de/wp-content/uploads/2020/08/img_4305-sorb-1.jpg
END:VEVENT
END:VCALENDAR