BEGIN:VCALENDAR
VERSION:2.0
PRODID:-//serbski-kucik.de - ECPv4.9.14//NONSGML v1.0//EN
CALSCALE:GREGORIAN
METHOD:PUBLISH
X-WR-CALNAME:serbski-kucik.de
X-ORIGINAL-URL:https://serbski-kucik.de
X-WR-CALDESC:Veranstaltungen für serbski-kucik.de
BEGIN:VTIMEZONE

END:VTIMEZONE
BEGIN:VEVENT
DTSTART;TZID=Europe/Berlin:19700101T150000
DTEND;TZID=Europe/Berlin:20231118T170000
DTSTAMP:20260420T111735
CREATED:20231115T083246Z
LAST-MODIFIED:20231115T083246Z
UID:2827-54000-1700326800@serbski-kucik.de
SUMMARY:Trommelcafe
DESCRIPTION:\nKursbeginn:\n15Uhr\, 16Uhr\, 17Uhr \nMit Sekou Bamogo \nAb 16 Jahren \nMit kleiner Teilnahmegebühr und Anmeldung über\n+49 173 767 8888\nkultcafe_nebelschuetz\nkulturcafe-nebelschuetz@posteo.net \n
URL:https://serbski-kucik.de/event/trommelcafe/
CATEGORIES:Hudźba,Kultura
ATTACH;FMTTYPE=image/jpeg:https://serbski-kucik.de/wp-content/uploads/2023/11/serbski-kucik_Trommelcafé.jpg
END:VEVENT
END:VCALENDAR