BEGIN:VCALENDAR
VERSION:2.0
PRODID:-//serbski-kucik.de - ECPv4.9.14//NONSGML v1.0//EN
CALSCALE:GREGORIAN
METHOD:PUBLISH
X-WR-CALNAME:serbski-kucik.de
X-ORIGINAL-URL:https://serbski-kucik.de
X-WR-CALDESC:Veranstaltungen für serbski-kucik.de
BEGIN:VTIMEZONE
TZID:Europe/Berlin
BEGIN:DAYLIGHT
TZOFFSETFROM:+0100
TZOFFSETTO:+0200
TZNAME:CEST
DTSTART:20220327T010000
END:DAYLIGHT
BEGIN:STANDARD
TZOFFSETFROM:+0200
TZOFFSETTO:+0100
TZNAME:CET
DTSTART:20221030T010000
END:STANDARD
END:VTIMEZONE
BEGIN:VEVENT
DTSTART;TZID=Europe/Berlin:20221210T194500
DTEND;TZID=Europe/Berlin:20221210T210000
DTSTAMP:20260421T163207
CREATED:20221117T145449Z
LAST-MODIFIED:20221121T080512Z
UID:1949-1670701500-1670706000@serbski-kucik.de
SUMMARY:“Stop a stup” – adwentne čitanje
DESCRIPTION:“Stop a stup” – adwentne čitanje z Měranu Cušcynej\, zhromadnje z LND / Buchlesung (in sorbischer Sprache) \nWšě zarjadowanja za dorosćenych su sobotu po wječornych kemšach.\nAlle Veranstaltungen für Erwachsene finden nach dem Abendgottesdienst statt.\nZměny su móžne – Änderungen sind möglich. Eintritt frei. Spende erbeten. \nWutrobnje přeprošuje – Monika Gerdesowa \n
URL:https://serbski-kucik.de/event/stop-a-stup-adwentne-citanje/
LOCATION:Putniska oaza\, Chrósćicy
CATEGORIES:Kultura
ATTACH;FMTTYPE=image/jpeg:https://serbski-kucik.de/wp-content/uploads/2022/11/20221126_Witamy-prěni-adwent-scaled.jpg
END:VEVENT
END:VCALENDAR