BEGIN:VCALENDAR
VERSION:2.0
PRODID:-//serbski-kucik.de - ECPv4.9.14//NONSGML v1.0//EN
CALSCALE:GREGORIAN
METHOD:PUBLISH
X-WR-CALNAME:serbski-kucik.de
X-ORIGINAL-URL:https://serbski-kucik.de
X-WR-CALDESC:Veranstaltungen für serbski-kucik.de
BEGIN:VTIMEZONE
TZID:Europe/Berlin
BEGIN:DAYLIGHT
TZOFFSETFROM:+0100
TZOFFSETTO:+0200
TZNAME:CEST
DTSTART:20230326T010000
END:DAYLIGHT
BEGIN:STANDARD
TZOFFSETFROM:+0200
TZOFFSETTO:+0100
TZNAME:CET
DTSTART:20231029T010000
END:STANDARD
END:VTIMEZONE
BEGIN:VEVENT
DTSTART;TZID=Europe/Berlin:20231116T090000
DTEND;TZID=Europe/Berlin:20231116T110000
DTSTAMP:20260421T143743
CREATED:20231115T080141Z
LAST-MODIFIED:20231115T080141Z
UID:2824-1700125200-1700132400@serbski-kucik.de
SUMMARY:Staršisko-dźěćacy kruh
DESCRIPTION:\nPřchodny termin 16.11.2023 je tema: \nZežiwjenje w ćěšenju/ -w samodruhhosći z knjeni Wokowu \nErnährung in der Stillzeit/ -in der Schwangerschaft (knj. Wokowa) \nAnmeldung gerne per Tel.: 01520/ 8783147 oder per Mail an: lipa@sorbischer-schulverein.de \n
URL:https://serbski-kucik.de/event/starsisko-dzecacy-kruh-2/
CATEGORIES:Swójby
ATTACH;FMTTYPE=image/jpeg:https://serbski-kucik.de/wp-content/uploads/2023/11/serbski-kucik-ernährung-schwangerschaft.jpg
END:VEVENT
END:VCALENDAR