BEGIN:VCALENDAR
VERSION:2.0
PRODID:-//serbski-kucik.de - ECPv4.9.14//NONSGML v1.0//EN
CALSCALE:GREGORIAN
METHOD:PUBLISH
X-WR-CALNAME:serbski-kucik.de
X-ORIGINAL-URL:https://serbski-kucik.de
X-WR-CALDESC:Veranstaltungen für serbski-kucik.de
BEGIN:VTIMEZONE
TZID:Europe/Berlin
BEGIN:DAYLIGHT
TZOFFSETFROM:+0100
TZOFFSETTO:+0200
TZNAME:CEST
DTSTART:20250330T010000
END:DAYLIGHT
BEGIN:STANDARD
TZOFFSETFROM:+0200
TZOFFSETTO:+0100
TZNAME:CET
DTSTART:20251026T010000
END:STANDARD
END:VTIMEZONE
BEGIN:VEVENT
DTSTART;TZID=Europe/Berlin:20250115T090000
DTEND;TZID=Europe/Berlin:20250115T100000
DTSTAMP:20260420T172033
CREATED:20241216T161555Z
LAST-MODIFIED:20241216T161555Z
UID:3125-1736931600-1736935200@serbski-kucik.de
SUMMARY:Sportowy kurs - w starobje fit
DESCRIPTION:\nW starobje fit / Fit im Alter\nstart: 15.01.2025\nčas: 09:00 – 10:00 hodź.\nměstnosć: Smjerdźečan kultruny dom\npopłatk: 75€ \n
URL:https://serbski-kucik.de/event/sportowy-kurs-w-starobje-fit/
CATEGORIES:Sport
ATTACH;FMTTYPE=image/jpeg:https://serbski-kucik.de/wp-content/uploads/2024/12/Sportowe-kursy-2025_2-3.jpg
END:VEVENT
END:VCALENDAR