BEGIN:VCALENDAR
VERSION:2.0
PRODID:-//serbski-kucik.de - ECPv4.9.14//NONSGML v1.0//EN
CALSCALE:GREGORIAN
METHOD:PUBLISH
X-WR-CALNAME:serbski-kucik.de
X-ORIGINAL-URL:https://serbski-kucik.de
X-WR-CALDESC:Veranstaltungen für serbski-kucik.de
BEGIN:VTIMEZONE
TZID:Europe/Berlin
BEGIN:DAYLIGHT
TZOFFSETFROM:+0100
TZOFFSETTO:+0200
TZNAME:CEST
DTSTART:20250330T010000
END:DAYLIGHT
BEGIN:STANDARD
TZOFFSETFROM:+0200
TZOFFSETTO:+0100
TZNAME:CET
DTSTART:20251026T010000
END:STANDARD
END:VTIMEZONE
BEGIN:VEVENT
DTSTART;TZID=Europe/Berlin:20250113T173000
DTEND;TZID=Europe/Berlin:20250113T183000
DTSTAMP:20260420T170501
CREATED:20241216T161131Z
LAST-MODIFIED:20241216T161158Z
UID:3113-1736789400-1736793000@serbski-kucik.de
SUMMARY:Sportowy kurs - chribjet mužojo
DESCRIPTION:\nFit chribjet mužojo / RückenFit Männer\nstart: 13.01.2025\nčas: 17:30 – 18:30 hodź.\nměstnosć: Smjerdźečan kulturny dom\npopłatk: 75€ \n
URL:https://serbski-kucik.de/event/sportowe-kursy-2025/
CATEGORIES:Sport
ATTACH;FMTTYPE=image/jpeg:https://serbski-kucik.de/wp-content/uploads/2024/12/Sportowe-kursy-2025_1.jpg
END:VEVENT
END:VCALENDAR