BEGIN:VCALENDAR
VERSION:2.0
PRODID:-//serbski-kucik.de - ECPv4.9.14//NONSGML v1.0//EN
CALSCALE:GREGORIAN
METHOD:PUBLISH
X-WR-CALNAME:serbski-kucik.de
X-ORIGINAL-URL:https://serbski-kucik.de
X-WR-CALDESC:Veranstaltungen für serbski-kucik.de
BEGIN:VTIMEZONE
TZID:Europe/Berlin
BEGIN:DAYLIGHT
TZOFFSETFROM:+0100
TZOFFSETTO:+0200
TZNAME:CEST
DTSTART:20250330T010000
END:DAYLIGHT
BEGIN:STANDARD
TZOFFSETFROM:+0200
TZOFFSETTO:+0100
TZNAME:CET
DTSTART:20251026T010000
END:STANDARD
END:VTIMEZONE
BEGIN:VEVENT
DTSTART;TZID=Europe/Berlin:20250113T193000
DTEND;TZID=Europe/Berlin:20250113T203000
DTSTAMP:20260420T153247
CREATED:20241216T161639Z
LAST-MODIFIED:20241216T162228Z
UID:3121-1736796600-1736800200@serbski-kucik.de
SUMMARY:Sportowy kurs - BodyFit
DESCRIPTION:\nBodyFit Wotrow / BodyFit Ostro\nstart: 13.01.2025\nčas: 19:30 – 20:30 hodź.\nměestnosć: Stara šula Wotrow\npopłatk: 75€ \n
URL:https://serbski-kucik.de/event/sportowe-kursy-2025-2/
CATEGORIES:Sport
ATTACH;FMTTYPE=image/jpeg:https://serbski-kucik.de/wp-content/uploads/2024/12/Sportowe-kursy-2025_2-2.jpg
END:VEVENT
END:VCALENDAR