BEGIN:VCALENDAR
VERSION:2.0
PRODID:-//serbski-kucik.de - ECPv4.9.14//NONSGML v1.0//EN
CALSCALE:GREGORIAN
METHOD:PUBLISH
X-WR-CALNAME:serbski-kucik.de
X-ORIGINAL-URL:https://serbski-kucik.de
X-WR-CALDESC:Veranstaltungen für serbski-kucik.de
BEGIN:VTIMEZONE
TZID:Europe/Berlin
BEGIN:DAYLIGHT
TZOFFSETFROM:+0100
TZOFFSETTO:+0200
TZNAME:CEST
DTSTART:20250330T010000
END:DAYLIGHT
BEGIN:STANDARD
TZOFFSETFROM:+0200
TZOFFSETTO:+0100
TZNAME:CET
DTSTART:20251026T010000
END:STANDARD
END:VTIMEZONE
BEGIN:VEVENT
DTSTART;TZID=Europe/Berlin:20250516T190000
DTEND;TZID=Europe/Berlin:20250516T210000
DTSTAMP:20260421T005553
CREATED:20250508T165928Z
LAST-MODIFIED:20250508T165928Z
UID:3432-1747422000-1747429200@serbski-kucik.de
SUMMARY:Spoken Words meets Lausitz
DESCRIPTION:WELCOME BACK IN DER LAUSITZ! \nEs ist wieder so weit: Die Spoken Word Akademie geht mit Poet:innen aus der Region und Gästen aus Deutschland und Europa auf TOUR! \nZwei Abende und ein Nachmittag voll Poesie zum Lachen\, Nachdenken\, Anprangern und Mitfühlen – Wir bringen Vielfalt auf die Bühne in deiner liebsten Ost-Stadt! \n15.05.25 | COTTBUS\nEinlass 19 Uhr\nEintritt frei\, gegen Spende \n16.05.25 | OSTRO\nEinlass 19 Uhr\nEintritt frei\, gegen Spende \n17.05.25 | EISENHÜTTENSTADT\nEinlass 15 Uhr\nEintritt frei\, gegen Spende \nWir freuen uns enorm auf die Tourgruppe und danken allen\, die diese Shows mit möglich machen! \nAlle Infos zur Tour findest du auf:\nwww.angeprangert.com/swol \nBei welcher Show sehen wir dich? \n
URL:https://serbski-kucik.de/event/spoken-words-meets-lausitz/
CATEGORIES:Młodźina,Wuměłstwo
ATTACH;FMTTYPE=image/jpeg:https://serbski-kucik.de/wp-content/uploads/2025/05/spoken-words-meets-lausitz.jpeg
END:VEVENT
END:VCALENDAR