BEGIN:VCALENDAR
VERSION:2.0
PRODID:-//serbski-kucik.de - ECPv4.9.14//NONSGML v1.0//EN
CALSCALE:GREGORIAN
METHOD:PUBLISH
X-WR-CALNAME:serbski-kucik.de
X-ORIGINAL-URL:https://serbski-kucik.de
X-WR-CALDESC:Veranstaltungen für serbski-kucik.de
BEGIN:VTIMEZONE
TZID:Europe/Berlin
BEGIN:DAYLIGHT
TZOFFSETFROM:+0100
TZOFFSETTO:+0200
TZNAME:CEST
DTSTART:20250330T010000
END:DAYLIGHT
BEGIN:STANDARD
TZOFFSETFROM:+0200
TZOFFSETTO:+0100
TZNAME:CET
DTSTART:20251026T010000
END:STANDARD
END:VTIMEZONE
BEGIN:VEVENT
DTSTART;TZID=Europe/Berlin:20250108T160000
DTEND;TZID=Europe/Berlin:20250108T173000
DTSTAMP:20260420T154147
CREATED:20241218T081422Z
LAST-MODIFIED:20241218T081615Z
UID:3166-1736352000-1736357400@serbski-kucik.de
SUMMARY:Spěwy w běhu pěstowarskeho lěta
DESCRIPTION:\nSpěwy w běhu pěstowarskeho lěta \nZaměr dalekubłanja: kubłarjo pěstowarnjow \nHdy?:\nSrjedu\, dnja 08.01.2025 (ptačokwasne spěwy) a/abo štwórtk\,\ndnja 13.02.2025 (nalětne spěwy)\nstajnje wot 16:00 – 17:30 hodź. \nHdźe:\nSerbske kubłanske srjedźišćo LIPA\,\nRadlubinowa 23\, 01920 Smjerdźaca \nKósty:\n10€ na jedne zarjadowanje (hodźi so jako dalekubłanje wotličić) \nNawodnica dalekubłanja:\nKnjeni Anne-Kathrin Krawcowa \nPřizjewjenja přijimuja pod:\nh.schaefer@sorbischer-schulverein.de abo\ntel. 015208783147 \n
URL:https://serbski-kucik.de/event/spewy-w-behu-pestowarskeho-leta/2025-01-08/
CATEGORIES:Hudźba
ATTACH;FMTTYPE=image/jpeg:https://serbski-kucik.de/wp-content/uploads/2024/12/Spěwy-w-běhu-pěstowarskeho-lěta.jpg
END:VEVENT
END:VCALENDAR