BEGIN:VCALENDAR
VERSION:2.0
PRODID:-//serbski-kucik.de - ECPv4.9.14//NONSGML v1.0//EN
CALSCALE:GREGORIAN
METHOD:PUBLISH
X-WR-CALNAME:serbski-kucik.de
X-ORIGINAL-URL:https://serbski-kucik.de
X-WR-CALDESC:Veranstaltungen für serbski-kucik.de
BEGIN:VTIMEZONE
TZID:Europe/Berlin
BEGIN:DAYLIGHT
TZOFFSETFROM:+0100
TZOFFSETTO:+0200
TZNAME:CEST
DTSTART:20230326T010000
END:DAYLIGHT
BEGIN:STANDARD
TZOFFSETFROM:+0200
TZOFFSETTO:+0100
TZNAME:CET
DTSTART:20231029T010000
END:STANDARD
END:VTIMEZONE
BEGIN:VEVENT
DTSTART;TZID=Europe/Berlin:20231216T140000
DTEND;TZID=Europe/Berlin:20231216T160000
DTSTAMP:20260424T014236
CREATED:20231205T162842Z
LAST-MODIFIED:20231205T162842Z
UID:2929-1702735200-1702742400@serbski-kucik.de
SUMMARY:Serbski DJ Kurs
DESCRIPTION:\nDj Knytl a JanH\nZa serbskich młodostnych 16.12.2023 w 14:00 \nPawk a Lucija Přeprošujetej \nSerbski dom w Budyšinje\nboard.pawk@gmail.com \nPřizjewjenje pod instagramje Pawka abo mejlku – max. 15 wosobow \n
URL:https://serbski-kucik.de/event/serbski-dj-kurs/
LOCATION:Budyšin\, Serbski dom
CATEGORIES:Hudźba,Młodźina
ATTACH;FMTTYPE=image/jpeg:https://serbski-kucik.de/wp-content/uploads/2023/12/1000040076.jpg
END:VEVENT
END:VCALENDAR