BEGIN:VCALENDAR
VERSION:2.0
PRODID:-//serbski-kucik.de - ECPv4.9.14//NONSGML v1.0//EN
CALSCALE:GREGORIAN
METHOD:PUBLISH
X-WR-CALNAME:serbski-kucik.de
X-ORIGINAL-URL:https://serbski-kucik.de
X-WR-CALDESC:Veranstaltungen für serbski-kucik.de
BEGIN:VTIMEZONE
TZID:Europe/Berlin
BEGIN:DAYLIGHT
TZOFFSETFROM:+0100
TZOFFSETTO:+0200
TZNAME:CEST
DTSTART:20220327T010000
END:DAYLIGHT
BEGIN:STANDARD
TZOFFSETFROM:+0200
TZOFFSETTO:+0100
TZNAME:CET
DTSTART:20221030T010000
END:STANDARD
END:VTIMEZONE
BEGIN:VEVENT
DTSTART;TZID=Europe/Berlin:20221230T190000
DTEND;TZID=Europe/Berlin:20221230T233000
DTSTAMP:20260421T161152
CREATED:20221130T154855Z
LAST-MODIFIED:20221130T154919Z
UID:2011-1672426800-1672443000@serbski-kucik.de
SUMMARY:Serbske bands & fans 
DESCRIPTION:10 lětny jubilej wobstaća chcemy z hudźbnikami JANKAHANKA\, SerBeat a Logarhythmus woswjećić. Sće sobu pódla? \n
URL:https://serbski-kucik.de/event/serbske-bands-fans/
LOCATION:„Jednota“ Chrósćicy
CATEGORIES:Hudźba,Młodźina
ATTACH;FMTTYPE=image/jpeg:https://serbski-kucik.de/wp-content/uploads/2022/11/2022_11_11_sorbischer-Bandabend_Plakat_DIN-A0-scaled.jpg
END:VEVENT
END:VCALENDAR