BEGIN:VCALENDAR
VERSION:2.0
PRODID:-//serbski-kucik.de - ECPv4.9.14//NONSGML v1.0//EN
CALSCALE:GREGORIAN
METHOD:PUBLISH
X-WR-CALNAME:serbski-kucik.de
X-ORIGINAL-URL:https://serbski-kucik.de
X-WR-CALDESC:Veranstaltungen für serbski-kucik.de
BEGIN:VTIMEZONE
TZID:Europe/Berlin
BEGIN:DAYLIGHT
TZOFFSETFROM:+0100
TZOFFSETTO:+0200
TZNAME:CEST
DTSTART:20240331T010000
END:DAYLIGHT
BEGIN:STANDARD
TZOFFSETFROM:+0200
TZOFFSETTO:+0100
TZNAME:CET
DTSTART:20241027T010000
END:STANDARD
END:VTIMEZONE
BEGIN:VEVENT
DTSTART;TZID=Europe/Berlin:20241228T200000
DTEND;TZID=Europe/Berlin:20241228T233000
DTSTAMP:20260420T095220
CREATED:20241213T155359Z
LAST-MODIFIED:20241213T155359Z
UID:3069-1735416000-1735428600@serbski-kucik.de
SUMMARY:Serbske bands & fans
DESCRIPTION:Po hodźoch je wězo wažne\, cyłe najědźene kila zaso wotbyć. Ale kak? Najlěpje z rejowanjom a wucychnowanjom ke krasnej serbskej live-hudźbje. \n28.12.2024 je za to zaso prawa přiležnosć. Swjećimy jubileje serbskich skupinow – 15 lět Con-takt a 5 lět Holaski. Dale witamy tež Šwintuchi na wulke jewišćo. A to wšo z wjacorymi wuměłskimi hosćimi (mjez druhim Lózymi hólcami\, Helenu Hejduškec a Istvanom Kobjelu) a wězo…Z WAMI\, FANAMI! \nTuž – najlěpje hnydom kartku wobstarać! \n— \nIhr wollt jetzt schon planen\, wie ihr die ganzen Kilos nach Weihnachten los werden wollt? Dann haben wir die perfekte Idee: mit Tanzen! \nAm 28.12.2024 feiern wir wieder gemeinsam verschiedene sorbische Bandjubiläen. 15 Jahre Con-takt und 5 Jahre Holaski sowie Šwintuchi auf der großen Bühne – das alles erwartet euch. Und zusätzlich noch mit vielen weiteren Gästen\, und vor allem…MIT EUCH! \nAlso\, am besten gleich Tickets besorgen! \n
URL:https://serbski-kucik.de/event/serbske-bands-fans-2/
CATEGORIES:Hudźba
ATTACH;FMTTYPE=image/jpeg:https://serbski-kucik.de/wp-content/uploads/2024/12/2024_11_29_sorbischer-Bandabend_Plakat.jpg
END:VEVENT
END:VCALENDAR