BEGIN:VCALENDAR
VERSION:2.0
PRODID:-//serbski-kucik.de - ECPv4.9.14//NONSGML v1.0//EN
CALSCALE:GREGORIAN
METHOD:PUBLISH
X-WR-CALNAME:serbski-kucik.de
X-ORIGINAL-URL:https://serbski-kucik.de
X-WR-CALDESC:Veranstaltungen für serbski-kucik.de
BEGIN:VTIMEZONE
TZID:Europe/Berlin
BEGIN:DAYLIGHT
TZOFFSETFROM:+0100
TZOFFSETTO:+0200
TZNAME:CEST
DTSTART:20200329T010000
END:DAYLIGHT
BEGIN:STANDARD
TZOFFSETFROM:+0200
TZOFFSETTO:+0100
TZNAME:CET
DTSTART:20201025T010000
END:STANDARD
END:VTIMEZONE
BEGIN:VEVENT
DTSTART;TZID=Europe/Berlin:20201121T193000
DTEND;TZID=Europe/Berlin:20201121T230000
DTSTAMP:20260420T223817
CREATED:20201006T113247Z
LAST-MODIFIED:20201006T113513Z
UID:959-1605987000-1605999600@serbski-kucik.de
SUMMARY:Schadźowanka
DESCRIPTION:Lětuša schadźowanka zaso w Krónje! Wšitcy su wutrobnje přeprošeni.\nSchadźowanka je swójski projekt Załožby za serbski lud. \n
URL:https://serbski-kucik.de/event/schadzowanka/
LOCATION:w Budyskej Krónje
CATEGORIES:Kultura
ATTACH;FMTTYPE=image/jpeg:https://serbski-kucik.de/wp-content/uploads/2020/10/9c13133eb7454420302890803a660fc4_desktop.jpeg
END:VEVENT
END:VCALENDAR