BEGIN:VCALENDAR
VERSION:2.0
PRODID:-//serbski-kucik.de - ECPv4.9.14//NONSGML v1.0//EN
CALSCALE:GREGORIAN
METHOD:PUBLISH
X-WR-CALNAME:serbski-kucik.de
X-ORIGINAL-URL:https://serbski-kucik.de
X-WR-CALDESC:Veranstaltungen für serbski-kucik.de
BEGIN:VTIMEZONE
TZID:Europe/Berlin
BEGIN:DAYLIGHT
TZOFFSETFROM:+0100
TZOFFSETTO:+0200
TZNAME:CEST
DTSTART:20250330T010000
END:DAYLIGHT
BEGIN:STANDARD
TZOFFSETFROM:+0200
TZOFFSETTO:+0100
TZNAME:CET
DTSTART:20251026T010000
END:STANDARD
END:VTIMEZONE
BEGIN:VEVENT
DTSTART;TZID=Europe/Berlin:20250413T170000
DTEND;TZID=Europe/Berlin:20250413T190000
DTSTAMP:20260421T005923
CREATED:20250213T075531Z
LAST-MODIFIED:20250213T075531Z
UID:3297-1744563600-1744570800@serbski-kucik.de
SUMMARY:Rejowany kruch "Smy! - Bin ich?"
DESCRIPTION:    \nSMY! – Bin ich?\nrejowany kruch \nW měrcu smě so publikum na dalše předstajenja wuspěšneho rejowaneho krucha „SMY! – Bin ich?” Serbskeho ludoweho ansambla (SLA) wjeselić. Zhromadnje z baletom SLA praša so Lipšćanska choreografka Gundula Peuthert\, što woznamjenja\, być serbski. W pytanju za wotmołwami su so ludźo z Hornjeje a Delnjeje Łužicy w interviewach k serbskim temam naprašowali. Z toho wotwodźowaše choreografka maćiznu za wuwiće choreografijow. Interviewy su wot nětka hač do kónca meje jako link na internetnej stronje SLA pod https://www.ansambl.de/repertoire/tanztheater-musiktheater/smy-bin-ich přistupne. \nDalše terminy rejowaneho krucha: \npjatk\, dnja 21. měrca w 19:30 hodź. w Budyšinje\, žurla SLA\nnjedźelu\, dnja 30. měrca w 17:00 hodź. w Budyšinje\, žurla SLA\nsobotu\, dnja 5. apryla w 19:00 hodź. w Choćebuzu\, dźiwadło Piccolo\nsobotu\, dnja 12. apryla w 19:30 hodź. w Budyšinje\, žurla SLA\nnjedźelu\, dnja 13. apryla w 17:00 hodź. w Budyšinje\, žurla SLA \n  \ndalše informacije a lisćiki: www.ansambl.de \n  \n  \nSMY! – Bin ich?\nTanzstück \nIm März kann sich das Publikum auf weitere Vorstellungen des erfolgreichen Tanzstückes „SMY! – Bin ich?“ des Sorbischen National-Ensembles (SNE) freuen. Die Leipziger Choreografin Gundula Peuthert ging gemeinsam mit dem Ballett des SNE der Frage nach\, was es bedeutet sorbisch zu sein. Menschen in der Lausitz wurden in Interviews zu sorbischen Themen befragt um daraus aktuelle Fragen und Antworten herzuleiten\, die ihrerseits wiederum als Stoff für die choreografische Auseinandersetzung dienen. Die Interviews finden Sie ab sofort bis Ende Mai verlinkt auf der Homepage des Sorbischen National-Ensembles unter  https://www.ansambl.de/repertoire/tanztheater-musiktheater/smy-bin-ich. \nWeitere Termine des Tanzstückes: \nFreitag\, den 21. März um 19:30 Uhr in Bautzen\, Saal des SNE\nSonntag\, den 30. März um 17:00 Uhr in Bautzen\, Saal des SNE\nSamstag\, den 5. April um 19:00 Uhr in Cottbus\, Piccolo-Theater\nSamstag\, den 12. April um 19:30 Uhr in Bautzen\, Saal des SNE\nSonntag\, den 13. April um 17:00 Uhr in Bautzen\, Saal des SNE \n  \nFotos: Ivana Pižga \nTickets & Infos:  www.ansambl.de \n
URL:https://serbski-kucik.de/event/rejowany-kruch-smy-bin-ich/2025-04-13/
CATEGORIES:Dźiwadło
ATTACH;FMTTYPE=image/jpeg:https://serbski-kucik.de/wp-content/uploads/2025/02/SmyBinIchSNE©IvanaPižga4-scaled.jpg
END:VEVENT
END:VCALENDAR