BEGIN:VCALENDAR
VERSION:2.0
PRODID:-//serbski-kucik.de - ECPv4.9.14//NONSGML v1.0//EN
CALSCALE:GREGORIAN
METHOD:PUBLISH
X-WR-CALNAME:serbski-kucik.de
X-ORIGINAL-URL:https://serbski-kucik.de
X-WR-CALDESC:Veranstaltungen für serbski-kucik.de
BEGIN:VTIMEZONE
TZID:Europe/Berlin
BEGIN:DAYLIGHT
TZOFFSETFROM:+0100
TZOFFSETTO:+0200
TZNAME:CEST
DTSTART:20200329T010000
END:DAYLIGHT
BEGIN:STANDARD
TZOFFSETFROM:+0200
TZOFFSETTO:+0100
TZNAME:CET
DTSTART:20201025T010000
END:STANDARD
END:VTIMEZONE
BEGIN:VEVENT
DTSTART;TZID=Europe/Berlin:20200412T091500
DTEND;TZID=Europe/Berlin:20200412T121500
DTSTAMP:20260420T185955
CREATED:20200320T151409Z
LAST-MODIFIED:20200330T071417Z
UID:505-1586682900-1586693700@serbski-kucik.de
SUMMARY:Ralbicy do Kulowa
DESCRIPTION:\nwotprajene\n9.15 – 12.15 hodź\nRalbicy\, Konjecy\, Šunow\, Sulšecy\, Salow\, Kulow\nPuć wróćo: 15.15 – 18.00 hodź\nKulow\, Hózk\, Koćina\, Konjecy\, Ralbicy \n
URL:https://serbski-kucik.de/event/ralbicy-do-kulowa/
CATEGORIES:Nabožina
ATTACH;FMTTYPE=image/jpeg:https://serbski-kucik.de/wp-content/uploads/2020/03/Ralbitz-1.jpg
END:VEVENT
END:VCALENDAR