BEGIN:VCALENDAR
VERSION:2.0
PRODID:-//serbski-kucik.de - ECPv4.9.14//NONSGML v1.0//EN
CALSCALE:GREGORIAN
METHOD:PUBLISH
X-WR-CALNAME:serbski-kucik.de
X-ORIGINAL-URL:https://serbski-kucik.de
X-WR-CALDESC:Veranstaltungen für serbski-kucik.de
BEGIN:VTIMEZONE
TZID:Europe/Berlin
BEGIN:DAYLIGHT
TZOFFSETFROM:+0100
TZOFFSETTO:+0200
TZNAME:CEST
DTSTART:20250330T010000
END:DAYLIGHT
BEGIN:STANDARD
TZOFFSETFROM:+0200
TZOFFSETTO:+0100
TZNAME:CET
DTSTART:20251026T010000
END:STANDARD
END:VTIMEZONE
BEGIN:VEVENT
DTSTART;TZID=Europe/Berlin:20250206T190000
DTEND;TZID=Europe/Berlin:20250206T203000
DTSTAMP:20260420T171511
CREATED:20250204T143305Z
LAST-MODIFIED:20250204T143305Z
UID:3261-1738868400-1738873800@serbski-kucik.de
SUMMARY:Qi Gong
DESCRIPTION: \nČehodla Qi Gong\nChceće po přirodomnym puću swoju strowotu skrućić a polěpšić: Jedyn puć za to je Qi Gong. W kursu zaznaće tutu prastaru metodu. \nŠto was wočakuje\nNawuknjeće zwučowanja\, kotrež móža wam pomhać\, pohibliwosć wašeho ćěła polěpšić\, wjac energije čuć\, lěpje stres wottwarić a so lóšo koncentrować. \nŠtó was nawjeduje\nHanka Šěnec je wukubłana wučerka medicinskeho Qi Gong a praktikuje tutu metodu wjac hač pjeć lět. \nPopłatk: 100\,00 € \nPřizjewjenja:\nlipa@sorbischer-schulverein.de\nabo pod telefoniskim čisłom:\n0172 78 119 59 \n
URL:https://serbski-kucik.de/event/qi-gong/
CATEGORIES:Přiroda,Sport
ATTACH;FMTTYPE=image/jpeg:https://serbski-kucik.de/wp-content/uploads/2025/02/Qi-Gong.jpg
END:VEVENT
END:VCALENDAR