BEGIN:VCALENDAR
VERSION:2.0
PRODID:-//serbski-kucik.de - ECPv4.9.14//NONSGML v1.0//EN
CALSCALE:GREGORIAN
METHOD:PUBLISH
X-WR-CALNAME:serbski-kucik.de
X-ORIGINAL-URL:https://serbski-kucik.de
X-WR-CALDESC:Veranstaltungen für serbski-kucik.de
BEGIN:VTIMEZONE
TZID:Europe/Berlin
BEGIN:DAYLIGHT
TZOFFSETFROM:+0100
TZOFFSETTO:+0200
TZNAME:CEST
DTSTART:20250330T010000
END:DAYLIGHT
BEGIN:STANDARD
TZOFFSETFROM:+0200
TZOFFSETTO:+0100
TZNAME:CET
DTSTART:20251026T010000
END:STANDARD
END:VTIMEZONE
BEGIN:VEVENT
DTSTART;VALUE=DATE:20250729
DTEND;VALUE=DATE:20250805
DTSTAMP:20260424T104945
CREATED:20250221T112438Z
LAST-MODIFIED:20250221T112438Z
UID:3320-1753747200-1754351999@serbski-kucik.de
SUMMARY:Putniska jězba 2025
DESCRIPTION:Putniska jězba 2025 – dožiw Swjate lěto wosobinsce z tamnymi młodostnymi!  Přizjew so hač do 30.04.2025. \nhttps://www.junges-bistum-ddmei.de/termine/event/1078:woche-der-jugend-im-heiligen-jahr?catid=5 \n
URL:https://serbski-kucik.de/event/putniska-jezba-2025/
CATEGORIES:Młodźina,Nabožina
ATTACH;FMTTYPE=image/jpeg:https://serbski-kucik.de/wp-content/uploads/2025/02/Screenshot_20250221_111124_Instagram.jpg
END:VEVENT
END:VCALENDAR