BEGIN:VCALENDAR
VERSION:2.0
PRODID:-//serbski-kucik.de - ECPv4.9.14//NONSGML v1.0//EN
CALSCALE:GREGORIAN
METHOD:PUBLISH
X-WR-CALNAME:serbski-kucik.de
X-ORIGINAL-URL:https://serbski-kucik.de
X-WR-CALDESC:Veranstaltungen für serbski-kucik.de
BEGIN:VTIMEZONE
TZID:Europe/Berlin
BEGIN:DAYLIGHT
TZOFFSETFROM:+0100
TZOFFSETTO:+0200
TZNAME:CEST
DTSTART:20230326T010000
END:DAYLIGHT
BEGIN:STANDARD
TZOFFSETFROM:+0200
TZOFFSETTO:+0100
TZNAME:CET
DTSTART:20231029T010000
END:STANDARD
END:VTIMEZONE
BEGIN:VEVENT
DTSTART;TZID=Europe/Berlin:20230604T090000
DTEND;TZID=Europe/Berlin:20230604T103000
DTSTAMP:20260420T191218
CREATED:20231031T075401Z
LAST-MODIFIED:20231031T075401Z
UID:2231-1685869200-1685874600@serbski-kucik.de
SUMMARY:Putnikowanje dekanatneje młodźiny
DESCRIPTION:Smy putnicy na zemi\nPutnikowanje dekanatneje młodźiny\n09:00 hodź. zhromadne putnikowanje z Worklec (kapałka)\n10:30 hodź. Boža mša w Róžeńčanskej cyrkwi \n
URL:https://serbski-kucik.de/event/putnikowanje-dekanatneje-mlodziny/
CATEGORIES:Młodźina,Nabožina
ATTACH;FMTTYPE=image/jpeg:https://serbski-kucik.de/wp-content/uploads/2023/10/20230603_3.jpg
END:VEVENT
END:VCALENDAR