BEGIN:VCALENDAR
VERSION:2.0
PRODID:-//serbski-kucik.de - ECPv4.9.14//NONSGML v1.0//EN
CALSCALE:GREGORIAN
METHOD:PUBLISH
X-WR-CALNAME:serbski-kucik.de
X-ORIGINAL-URL:https://serbski-kucik.de
X-WR-CALDESC:Veranstaltungen für serbski-kucik.de
BEGIN:VTIMEZONE
TZID:Europe/Berlin
BEGIN:DAYLIGHT
TZOFFSETFROM:+0100
TZOFFSETTO:+0200
TZNAME:CEST
DTSTART:20200329T010000
END:DAYLIGHT
BEGIN:STANDARD
TZOFFSETFROM:+0200
TZOFFSETTO:+0100
TZNAME:CET
DTSTART:20201025T010000
END:STANDARD
END:VTIMEZONE
BEGIN:VEVENT
DTSTART;TZID=Europe/Berlin:20200929T201500
DTEND;TZID=Europe/Berlin:20200929T233000
DTSTAMP:20260421T030426
CREATED:20200826T135147Z
LAST-MODIFIED:20200826T135147Z
UID:838-1601410500-1601422200@serbski-kucik.de
SUMMARY:Pudels Kern – Steinhaus Dialoge #4
DESCRIPTION:Im Rahmen der interkulturellen Woche \nThema wird noch bekannt gegeben! \n„Des Pudels Kern: Steinhaus Dialoge“ ist ein neues Veranstaltungsformat auf der Steinhaus-Bühne. Euch erwarten spannende Gäste\, außergewöhnliche Erfahrungen\, sachliche\, aber direkte Diskussionen zu aktuellen Themen aus Bautzen und aus der Region\, diesmal im Rahmen der interkulturellen Woche 2020 \n„Des Pudels Kern: Steinhaus Dialoge“ findet sowohl online (Stream unter www.youtube.com/steinhaustv) als auch analog im Steinhaus statt. \n„Des Pudels Kern: Steinhaus Dialoge“ wird unterstützt durch die Partnerschaft für Demokratie im Rahmen des Programmes „Demokratie leben“ des Bundesministeriums für Familie\, Senioren\, Frauen und Jugend. \nEinlass ab 19:45 Uhr\nEintritt frei \n
URL:https://serbski-kucik.de/event/pudels-kern-steinhaus-dialoge-4/
LOCATION:Steinhaus Bautzen
CATEGORIES:Kultura
ATTACH;FMTTYPE=image/jpeg:https://serbski-kucik.de/wp-content/uploads/2020/08/2020_07_09_Platzhalterbild_SerbskiKucik-web.jpg
END:VEVENT
END:VCALENDAR