BEGIN:VCALENDAR
VERSION:2.0
PRODID:-//serbski-kucik.de - ECPv4.9.14//NONSGML v1.0//EN
CALSCALE:GREGORIAN
METHOD:PUBLISH
X-WR-CALNAME:serbski-kucik.de
X-ORIGINAL-URL:https://serbski-kucik.de
X-WR-CALDESC:Veranstaltungen für serbski-kucik.de
BEGIN:VTIMEZONE
TZID:Europe/Berlin
BEGIN:DAYLIGHT
TZOFFSETFROM:+0100
TZOFFSETTO:+0200
TZNAME:CEST
DTSTART:20250330T010000
END:DAYLIGHT
BEGIN:STANDARD
TZOFFSETFROM:+0200
TZOFFSETTO:+0100
TZNAME:CET
DTSTART:20251026T010000
END:STANDARD
END:VTIMEZONE
BEGIN:VEVENT
DTSTART;TZID=Europe/Berlin:20250208T090000
DTEND;TZID=Europe/Berlin:20250208T170000
DTSTAMP:20260420T211131
CREATED:20241216T164211Z
LAST-MODIFIED:20241216T164331Z
UID:3155-1739005200-1739034000@serbski-kucik.de
SUMMARY:Přihot na sakrament mandźelstwa
DESCRIPTION:Přihot na sakrament mandźelstwa / Ehevorbereitungsseminar\nw Smochćicach/ in Schmochtitz (zweisprachig)\n\n  \nNic jeno předstejacy kwasny dźeń chce być dokładnje přihotowany\, ale tež zhromadny přichod. Derje by było\, jeli byštaj sej do kwasa tež trochu měra a wotstawka k wšemu popřeć móhłoj. Zhromadnje z moderatorkomaj\, kaž tež z fararjom Gabrišom Nawku změjetaj móžnosć\, přez najwšelakoriše prašenja k mandźelstwu\, partnerstwu a wěrowanju rěčeć. Pory\, kiž so na seminarje wobdźěla\, móža sej zhromadnje z partnerom/partnerku wotkrywać\, što dobre a płódne partnerstwo wučinja. Mnozy maja wuměnu z druhimi porami za jara wobohaćacu. Wužiwtaj tež Wój tutu móžnosć jako wobohaćenje za Waju zhromadny žiwjenski puć.\n  \nTerminy:\n07.02.2025 – 18:00 Uhr – 22:00 Uhr\n08.02.2025 – 09:00 Uhr – 17:00 Uhr\n28.11.2025 – 18:00 Uhr – 22:00 Uhr\n29.11.2025 – 09:00 Uhr – 17:00 Uhr\n
URL:https://serbski-kucik.de/event/prihot-na-sakrament-mandzelstwa-2/2025-02-08/
CATEGORIES:Nabožina
ATTACH;FMTTYPE=image/jpeg:https://serbski-kucik.de/wp-content/uploads/2024/12/prihot_na_sakrament_mandzelstwa.jpg
END:VEVENT
END:VCALENDAR