BEGIN:VCALENDAR
VERSION:2.0
PRODID:-//serbski-kucik.de - ECPv4.9.14//NONSGML v1.0//EN
CALSCALE:GREGORIAN
METHOD:PUBLISH
X-WR-CALNAME:serbski-kucik.de
X-ORIGINAL-URL:https://serbski-kucik.de
X-WR-CALDESC:Veranstaltungen für serbski-kucik.de
BEGIN:VTIMEZONE
TZID:Europe/Berlin
BEGIN:DAYLIGHT
TZOFFSETFROM:+0100
TZOFFSETTO:+0200
TZNAME:CEST
DTSTART:20200329T010000
END:DAYLIGHT
BEGIN:STANDARD
TZOFFSETFROM:+0200
TZOFFSETTO:+0100
TZNAME:CET
DTSTART:20201025T010000
END:STANDARD
END:VTIMEZONE
BEGIN:VEVENT
DTSTART;TZID=Europe/Berlin:20201011T090000
DTEND;TZID=Europe/Berlin:20201011T110000
DTSTAMP:20260421T022559
CREATED:20201007T074551Z
LAST-MODIFIED:20201007T074551Z
UID:971-1602406800-1602414000@serbski-kucik.de
SUMMARY:Prěnje swjate woprawjenje w Kulowje
DESCRIPTION:
URL:https://serbski-kucik.de/event/prenje-swjate-woprawjenje-w-kulowje/
LOCATION:Kulow
CATEGORIES:Nabožina
ATTACH;FMTTYPE=image/jpeg:https://serbski-kucik.de/wp-content/uploads/2020/10/james-coleman-HEkSMrNfaJk-unsplash-scaled.jpg
END:VEVENT
END:VCALENDAR