BEGIN:VCALENDAR
VERSION:2.0
PRODID:-//serbski-kucik.de - ECPv4.9.14//NONSGML v1.0//EN
CALSCALE:GREGORIAN
METHOD:PUBLISH
X-WR-CALNAME:serbski-kucik.de
X-ORIGINAL-URL:https://serbski-kucik.de
X-WR-CALDESC:Veranstaltungen für serbski-kucik.de
BEGIN:VTIMEZONE
TZID:Europe/Berlin
BEGIN:DAYLIGHT
TZOFFSETFROM:+0100
TZOFFSETTO:+0200
TZNAME:CEST
DTSTART:20250330T010000
END:DAYLIGHT
BEGIN:STANDARD
TZOFFSETFROM:+0200
TZOFFSETTO:+0100
TZNAME:CET
DTSTART:20251026T010000
END:STANDARD
END:VTIMEZONE
BEGIN:VEVENT
DTSTART;TZID=Europe/Berlin:20250329T200000
DTEND;TZID=Europe/Berlin:20250329T210000
DTSTAMP:20260421T025227
CREATED:20250312T155002Z
LAST-MODIFIED:20250312T155002Z
UID:3355-1743278400-1743282000@serbski-kucik.de
SUMMARY:Póstny čas
DESCRIPTION:Terminy za lětuši póstny čas. \n08.03.2025 Vesper a poskitk | 20 hodź. w Chrósćicach\n15.03.2025 Nócne modlenje (wosadny mision) | 21 hodź. w Radworju\n22.03.2025 Vesper a poskitk | 20 hodź. w Ralbicach\n29.03.2025 Nócne wujednanja (swjate lěto) | 20 hodź. w Róžeńće\n05.04.2025 Vesper a poskitk | 20 hodź. w Kulowje\n13.04.2025 Křižowy puć młodźiny | 14 hodź. w Nuknicach \n
URL:https://serbski-kucik.de/event/postny-cas/2025-03-29/
CATEGORIES:Nabožina
ATTACH;FMTTYPE=image/jpeg:https://serbski-kucik.de/wp-content/uploads/2025/03/postny-cas_2025.jpeg
END:VEVENT
END:VCALENDAR