BEGIN:VCALENDAR
VERSION:2.0
PRODID:-//serbski-kucik.de - ECPv4.9.14//NONSGML v1.0//EN
CALSCALE:GREGORIAN
METHOD:PUBLISH
X-WR-CALNAME:serbski-kucik.de
X-ORIGINAL-URL:https://serbski-kucik.de
X-WR-CALDESC:Veranstaltungen für serbski-kucik.de
BEGIN:VTIMEZONE
TZID:Europe/Berlin
BEGIN:DAYLIGHT
TZOFFSETFROM:+0100
TZOFFSETTO:+0200
TZNAME:CEST
DTSTART:20240331T010000
END:DAYLIGHT
BEGIN:STANDARD
TZOFFSETFROM:+0200
TZOFFSETTO:+0100
TZNAME:CET
DTSTART:20241027T010000
END:STANDARD
END:VTIMEZONE
BEGIN:VEVENT
DTSTART;TZID=Europe/Berlin:20240126T210000
DTEND;TZID=Europe/Berlin:20240126T233000
DTSTAMP:20260423T222002
CREATED:20240105T082050Z
LAST-MODIFIED:20240116T080439Z
UID:2970-1706302800-1706311800@serbski-kucik.de
SUMMARY:Póstnička
DESCRIPTION: \nw raju fantazijow \nz Logarhytmus \nVVK 7€\nWječorna kasa: 9€\nEarly Entry 21-22 hodź.: 8€\nHosćenc Šunow \n12tki SGB \nP18/ P16-Woćerny list\nZapočatk: 21:00 hodź \n
URL:https://serbski-kucik.de/event/postnicka/
LOCATION:Šunow
CATEGORIES:Młodźina
ATTACH;FMTTYPE=image/jpeg:https://serbski-kucik.de/wp-content/uploads/2023/12/serbiski-kucik_postnicka.jpg
END:VEVENT
END:VCALENDAR