BEGIN:VCALENDAR
VERSION:2.0
PRODID:-//serbski-kucik.de - ECPv4.9.14//NONSGML v1.0//EN
CALSCALE:GREGORIAN
METHOD:PUBLISH
X-WR-CALNAME:serbski-kucik.de
X-ORIGINAL-URL:https://serbski-kucik.de
X-WR-CALDESC:Veranstaltungen für serbski-kucik.de
BEGIN:VTIMEZONE
TZID:Europe/Berlin
BEGIN:DAYLIGHT
TZOFFSETFROM:+0100
TZOFFSETTO:+0200
TZNAME:CEST
DTSTART:20250330T010000
END:DAYLIGHT
BEGIN:STANDARD
TZOFFSETFROM:+0200
TZOFFSETTO:+0100
TZNAME:CET
DTSTART:20251026T010000
END:STANDARD
END:VTIMEZONE
BEGIN:VEVENT
DTSTART;TZID=Europe/Berlin:20250214T213000
DTEND;TZID=Europe/Berlin:20250214T233000
DTSTAMP:20260420T191042
CREATED:20250204T143854Z
LAST-MODIFIED:20250204T143854Z
UID:3264-1739568600-1739575800@serbski-kucik.de
SUMMARY:Póstnička – Dźeń Walentina
DESCRIPTION: \nDźěń Walentina \nhraja: Holaski\nwječorna kasa: 8\,00 €\npředpředań: 6\,00 €\nP18/ P16 maćerny list \nValentinstag\nes spielen: Holaski\nAbendkasse: 8\,00 €\nVorverkauf: 6\,00 €\nP18/ P16 Muttizettel \nLubje strowja waše 12-tki \n
URL:https://serbski-kucik.de/event/postnicka-dzen-walentina/
CATEGORIES:Młodźina
ATTACH;FMTTYPE=image/jpeg:https://serbski-kucik.de/wp-content/uploads/2025/02/dzen-valentina.jpg
END:VEVENT
END:VCALENDAR