BEGIN:VCALENDAR
VERSION:2.0
PRODID:-//serbski-kucik.de - ECPv4.9.14//NONSGML v1.0//EN
CALSCALE:GREGORIAN
METHOD:PUBLISH
X-WR-CALNAME:serbski-kucik.de
X-ORIGINAL-URL:https://serbski-kucik.de
X-WR-CALDESC:Veranstaltungen für serbski-kucik.de
BEGIN:VTIMEZONE
TZID:Europe/Berlin
BEGIN:DAYLIGHT
TZOFFSETFROM:+0100
TZOFFSETTO:+0200
TZNAME:CEST
DTSTART:20200329T010000
END:DAYLIGHT
BEGIN:STANDARD
TZOFFSETFROM:+0200
TZOFFSETTO:+0100
TZNAME:CET
DTSTART:20201025T010000
END:STANDARD
END:VTIMEZONE
BEGIN:VEVENT
DTSTART;TZID=Europe/Berlin:20200925T200000
DTEND;TZID=Europe/Berlin:20200925T230000
DTSTAMP:20260421T044056
CREATED:20200826T132259Z
LAST-MODIFIED:20200826T132306Z
UID:830-1601064000-1601074800@serbski-kucik.de
SUMMARY:Open Stage Jamsession
DESCRIPTION:Offener Treffpunkt für Musizierende und Musikinteressierte \nDie Open Stage ist offene Bühne für alle Musikerinnen und Musiker sowie Treffpunk für Musikinteressierte oder einfach nur Zuhörer. PA\, Amps\, Piano und Drumset werden gestellt\, Instrumente müssen selbst mitgebracht werden. Der Eintritt ist frei und die Bar hat geöffnet. Zudem können sich Bands für einen kleinen Eröffnungsgig bewerben. \nEintritt frei \n
URL:https://serbski-kucik.de/event/open-stage-jamsession/
LOCATION:Steinhaus Bautzen
CATEGORIES:Kultura
ATTACH;FMTTYPE=image/jpeg:https://serbski-kucik.de/wp-content/uploads/2020/08/Steinhaus_Galerie_OpenStage_3-scaled.jpg
END:VEVENT
END:VCALENDAR