BEGIN:VCALENDAR
VERSION:2.0
PRODID:-//serbski-kucik.de - ECPv4.9.14//NONSGML v1.0//EN
CALSCALE:GREGORIAN
METHOD:PUBLISH
X-WR-CALNAME:serbski-kucik.de
X-ORIGINAL-URL:https://serbski-kucik.de
X-WR-CALDESC:Veranstaltungen für serbski-kucik.de
BEGIN:VTIMEZONE
TZID:Europe/Berlin
BEGIN:DAYLIGHT
TZOFFSETFROM:+0100
TZOFFSETTO:+0200
TZNAME:CEST
DTSTART:20230326T010000
END:DAYLIGHT
BEGIN:STANDARD
TZOFFSETFROM:+0200
TZOFFSETTO:+0100
TZNAME:CET
DTSTART:20231029T010000
END:STANDARD
END:VTIMEZONE
BEGIN:VEVENT
DTSTART;TZID=Europe/Berlin:20231222T173000
DTEND;TZID=Europe/Berlin:20231222T220000
DTSTAMP:20260423T202924
CREATED:20240105T082212Z
LAST-MODIFIED:20240105T082212Z
UID:2951-1703266200-1703282400@serbski-kucik.de
SUMMARY:Nócny Wolejbul Pawka
DESCRIPTION:17:30 Hodź Přizjewić\nStart: 18:00 hodź.\n10€ startowy fenk\nMaks. 2 kiž hrajetaj w towarstwje \n  \n
URL:https://serbski-kucik.de/event/nocny-wolejbul-pawka/
CATEGORIES:Sport
ATTACH;FMTTYPE=image/jpeg:https://serbski-kucik.de/wp-content/uploads/2023/12/1000040536.jpg
END:VEVENT
END:VCALENDAR