BEGIN:VCALENDAR
VERSION:2.0
PRODID:-//serbski-kucik.de - ECPv4.9.14//NONSGML v1.0//EN
CALSCALE:GREGORIAN
METHOD:PUBLISH
X-WR-CALNAME:serbski-kucik.de
X-ORIGINAL-URL:https://serbski-kucik.de
X-WR-CALDESC:Veranstaltungen für serbski-kucik.de
BEGIN:VTIMEZONE
TZID:Europe/Berlin
BEGIN:DAYLIGHT
TZOFFSETFROM:+0100
TZOFFSETTO:+0200
TZNAME:CEST
DTSTART:20230326T010000
END:DAYLIGHT
BEGIN:STANDARD
TZOFFSETFROM:+0200
TZOFFSETTO:+0100
TZNAME:CET
DTSTART:20231029T010000
END:STANDARD
END:VTIMEZONE
BEGIN:VEVENT
DTSTART;TZID=Europe/Berlin:20231104T160000
DTEND;TZID=Europe/Berlin:20231104T210000
DTSTAMP:20260420T114714
CREATED:20231101T200556Z
LAST-MODIFIED:20231101T200556Z
UID:2664-1699113600-1699131600@serbski-kucik.de
SUMMARY:Nazymski koncert na Romantice: Serbska rejowanska skupina Smjerdźaca
DESCRIPTION:\nNazymski koncert na Romantice: Serbska rejowanska skupina Smjerdźaca \nWutrobnje přeprošujemy na koncert Serbskeje rejowanskeje skupina Smjerdźac do Serbskeho domu. K tomu prezentuje Monika Cyžowa serbske narodne drasty.\nPo koncerće móže so we Serbskej kulturnej informaciji rjemjeslnikam při dźěle přihladować abo dobry plinčk před domom zjěsć. Wjeselimy so na Waš wopyt k Romatice w Budyšinje! \nHerbstkonzert und Präsentation sorbischer Trachten zur Romantica \nHerzlich laden wir zum Konzert der Sorbischen Tanzgruppe Schmerlitz in das Haus der Sorben ein. Dazu präsentiert Monika Cyžowa sorbische Trachten. Nach dem Konzert kann man in der Sorbischen Kulturinformation Handwerkern bei der Arbeit zuschauen oder einen leckeren Plins vor dem Haus der Sorben probieren. Wir freuen uns auf Ihren Besuch. \n  \n
URL:https://serbski-kucik.de/event/nazymski-koncert-na-romantice-serbska-rejowanska-skupina-smjerdzaca/
CATEGORIES:Kultura
ATTACH;FMTTYPE=image/jpeg:https://serbski-kucik.de/wp-content/uploads/2023/11/serbiski-kucik_Romantica_1.jpeg
END:VEVENT
END:VCALENDAR