BEGIN:VCALENDAR
VERSION:2.0
PRODID:-//serbski-kucik.de - ECPv4.9.14//NONSGML v1.0//EN
CALSCALE:GREGORIAN
METHOD:PUBLISH
X-WR-CALNAME:serbski-kucik.de
X-ORIGINAL-URL:https://serbski-kucik.de
X-WR-CALDESC:Veranstaltungen für serbski-kucik.de
BEGIN:VTIMEZONE
TZID:Europe/Berlin
BEGIN:DAYLIGHT
TZOFFSETFROM:+0100
TZOFFSETTO:+0200
TZNAME:CEST
DTSTART:20250330T010000
END:DAYLIGHT
BEGIN:STANDARD
TZOFFSETFROM:+0200
TZOFFSETTO:+0100
TZNAME:CET
DTSTART:20251026T010000
END:STANDARD
END:VTIMEZONE
BEGIN:VEVENT
DTSTART;TZID=Europe/Berlin:20250531T160000
DTEND;TZID=Europe/Berlin:20250531T230000
DTSTAMP:20260421T071056
CREATED:20250516T134259Z
LAST-MODIFIED:20250516T134259Z
UID:3446-1748707200-1748732400@serbski-kucik.de
SUMMARY:Mejemjetanje Chrósćicy
DESCRIPTION:   \n31. meje je zaso tak daloko! \nPřeprošujemy was wutrobnje na naše lětuše mejemjetanje – zhromadnje z Chróšćan muzikantami \nČakaja na was běh wo mejskeho krala\, reje mejskich porikow\, zhromadnje popołdnjo a wězo wječorne reje z kapału Holaski.🪗 \nWjeselimy so hižo na was! \n••••••••••••••••••••••••••••••••••••••••••••••••••••• \nAm 31. Mai ist es wieder so weit! \nWir laden euch herzlich zu unserem alljährlichen Maibaumwerfen ein – gemeinsam mit den Crostwitzer Blasmusikanten.🪗 \nWir freuen uns schon riesig auf euch! \n
URL:https://serbski-kucik.de/event/mejemjetanje-chroscicy/
CATEGORIES:Kultura,Młodźina,Swójby
ATTACH;FMTTYPE=image/jpeg:https://serbski-kucik.de/wp-content/uploads/2025/05/mejemjetanje-chroscicy.jpeg
END:VEVENT
END:VCALENDAR