BEGIN:VCALENDAR
VERSION:2.0
PRODID:-//serbski-kucik.de - ECPv4.9.14//NONSGML v1.0//EN
CALSCALE:GREGORIAN
METHOD:PUBLISH
X-WR-CALNAME:serbski-kucik.de
X-ORIGINAL-URL:https://serbski-kucik.de
X-WR-CALDESC:Veranstaltungen für serbski-kucik.de
BEGIN:VTIMEZONE
TZID:Europe/Berlin
BEGIN:DAYLIGHT
TZOFFSETFROM:+0100
TZOFFSETTO:+0200
TZNAME:CEST
DTSTART:20200329T010000
END:DAYLIGHT
BEGIN:STANDARD
TZOFFSETFROM:+0200
TZOFFSETTO:+0100
TZNAME:CET
DTSTART:20201025T010000
END:STANDARD
END:VTIMEZONE
BEGIN:VEVENT
DTSTART;TZID=Europe/Berlin:20200622T100000
DTEND;TZID=Europe/Berlin:20200622T180000
DTSTAMP:20260420T190411
CREATED:20200320T155234Z
LAST-MODIFIED:20200330T071320Z
UID:537-1592820000-1592848800@serbski-kucik.de
SUMMARY:Mała rejwana stawizna
DESCRIPTION:\nwotprajene\n22.06.2020 | 10.00 hodź\nKorzym\, Körse hala\nRejwarki a rejwarjo baleta Serbskeho ludoweho ansambla podadźa so zhromadnje ze šulerkami a šulerjemi na jězbu přez čas a přez stawizny reje a jeje wšelakore stile a formy\, kotraž saha wot spočatkow baleta přez folklornu reju hač k rock’n’rollej.\nSLA Budyšin https://www.ansambl.de/hsb/repertoire/programy-za-dzeci/sulerske-koncerty/mala-rejwana-stawizna/ \n
URL:https://serbski-kucik.de/event/mala-rejwana-stawizna/
CATEGORIES:Dźiwadło
ATTACH;FMTTYPE=image/jpeg:https://serbski-kucik.de/wp-content/uploads/2020/03/Mała-rejwana-stawizna.jpg
END:VEVENT
END:VCALENDAR