BEGIN:VCALENDAR
VERSION:2.0
PRODID:-//serbski-kucik.de - ECPv4.9.14//NONSGML v1.0//EN
CALSCALE:GREGORIAN
METHOD:PUBLISH
X-WR-CALNAME:serbski-kucik.de
X-ORIGINAL-URL:https://serbski-kucik.de
X-WR-CALDESC:Veranstaltungen für serbski-kucik.de
BEGIN:VTIMEZONE
TZID:Europe/Berlin
BEGIN:DAYLIGHT
TZOFFSETFROM:+0100
TZOFFSETTO:+0200
TZNAME:CEST
DTSTART:20250330T010000
END:DAYLIGHT
BEGIN:STANDARD
TZOFFSETFROM:+0200
TZOFFSETTO:+0100
TZNAME:CET
DTSTART:20251026T010000
END:STANDARD
END:VTIMEZONE
BEGIN:VEVENT
DTSTART;TZID=Europe/Berlin:20250216T160000
DTEND;TZID=Europe/Berlin:20250216T180000
DTSTAMP:20260420T211429
CREATED:20250114T104434Z
LAST-MODIFIED:20250114T104434Z
UID:3236-1739721600-1739728800@serbski-kucik.de
SUMMARY:Lubosć na žołmach – Wječorny ptači kwas
DESCRIPTION:   \nLubosć na žołmach\nWječorny ptači kwas \nDo Prahi přińdźeš najspěšnišo z awtom abo ćahom. Jeli pak će ničo njehoni\, poskići so tež raz parnik za wokřewjacu jězbu do złoteho města. Wšako je na łódźi stajnje wo zabawu postarane a nimo chłódnych napojow a słódneje jědźe kiwaja tež hišće wšelke druhe překwapjenki. Druhdy wězo tež njewitane kaž dožiwi je Matej\, kiž chcyše poprawom woměrje  z přećelemi a ze spěwnej skupinu “Šwjerče” swoje 35. narodniny na łódźi swjećić. Naraz zjewja so tam hišće druhe znate mjezwoča z domizny\, samo jeho stara lubosć\, kotrejž njezamóže při najlěpšej woli z puća hić… \nPodajće so z našimi pasažěrami z Drježdźan do Prahi a dožiwće z nimi zhromadnje žort a zabawu při čiłej hudźbje\, spěwach a rejach\, wězo z wočakowanej překwapjenku za sobujěducych přihladowarjow na žurli. \nLibreto je znowa z pjera Jěwy-Marje Čornakec. Režiju ma Julia Schmidt na starosći\, hudźbu je Wolfgang Böhmer stworił a tohorunja kompozicije druhich wobdźěłał. Choreografije zestaja Mia Facchinelli. \nW Radworju\, Chrósćicach a Budyšinje su po předstajenju reje.\nNimo toho poskićuje so na tutych dnjach do a po předstajenju ćopła jědź. \n  \nterminy: \nsobotu\, dnja 18. januara w 19:30 hodź. w Choćebuzu\, komorne jewišćo (prapremjera)\nsobotu\, dnja 25. januara w 19:30 hodź. w Radworju\, Slaviji (hornjoserbska premjera / přizamknu so reje)\nnjedźelu\, dnja 26. januara w 16:00 hodź. w Kulowje\, wjacezaměrowa hala\nsobotu\, dnja 01. februara w 16:00 hodź. w Chrósćicach\, Jednota\nsobotu\, dnja 01. februara w 19:30 hodź. w Chrósćicach\, Jednota (přizamknu so reje)\nnjedźelu\, dnja 02. februara w 16:00 hodź. w Budyšinje\, žurla SLA\nsobotu\, dnja 08. februara w 16:00 hodź. w Budyšinje\, žurla SLA\nsobotu\, dnja 08. februara w 19:30 hodź. w Budyšinje\, žurlu SLA (přizamknu so reje)\nnjedźelu\, dnja 09 februara we 16:00 hodź. w Bukecach\, balowy dom\nnjedźelu\, dnja 16. februara w 16:00 hodź. w Slepom\, Serbski kulturny centrum \n  \ntikety a dalše informacije: www.ansambl.de \nfota: Měrćin Pižga \n  \nFlußaufwärts ins Glück\nProgramm zur Vogelhochzeit \nDer schnellste\, aber nicht unbedingt beste Weg nach Prag ist immer noch der über die Autobahn oder mit dem EuroCity. Mit etwas Zeit und genügend Muße aber sollte man sich den Luxus gönnen und sich auf Elbe und Moldau in die goldene Stadt schippern lassen. Schließlich ist bei solch einer Schifffahrt für viel Unterhaltung und neben gehaltvollen Getränken und leckeren Speisen auch für die eine oder andere Überraschung gesorgt. Die ist nicht für jeden gleichermaßen willkommen.  Matej beispielsweise will mit seinen Freunden und der Gesangsgruppe einfach nur ungestört seinen 35. Geburtstag auf dem Schiff feiern. Aber plötzlich tauchen an Bord noch andere bekannte Gesichter aus der sorbischen Heimat auf\, sogar seine alte Liebe\, der er beim besten Willen nicht aus dem Weg gehen kann! \nKommen Sie an Bord und erleben Sie Spaß und Unterhaltung bei schmissiger Musik\, schwungvollen Tänzen und fröhlichen Überraschungen. \nDas Libretto stammt aus der Feder von Jěwa-Marja Čornakec\, für die Kompositionen und Bearbeitungen bekannter sorbischer Titel sorgte Wolfgang Böhmer. Die Regie liegt in den Händen von Julia Schmidt und die Choreografien erarbeitete Mia Facchinelli. \nDie Vorstellungen sind in sorbischer Sprache\, eine Simultanübersetzung wird angeboten. \nBei folgenden Veranstaltungen lädt das SNE nach der Vorstellung zum Tanz ein: Radibor\, Crostwitz\, Bautzen \nAußerdem werden vor und nach diesen Veranstaltungen warme Speisen angeboten. \n  \nTermine: \nSamstag\, den 18. Januar um 19:30 Uhr in Cottbus\, Kammerbühne (Uraufführung)\nSamstag\, den 25. Januar um 19:30 Uhr in Radibor\, Slavia (obersorbische Premiere / anschließend Tanzveranstaltung)\nSonntag\, den 26. Januar um 16:00 Uhr in Wittichenau\, Mehrzweckhalle\nSamstag\, den 01. Februar um 16:00 Uhr in Crostwitz\, Jednota\nSamstag\, den 01. Februar um 19:30 Uhr in Crostwitz\, Jednota (anschließend Tanzveranstaltung)\nSonntag\, den 02. Februar um 16:00 Uhr in Bautzen\, Saal des SNE\nSamstag\, den 08. Februar um 16:00 Uhr in Bautzen\, Saal des SNE\nSamstag\, den 08. Februar um 19:30 Uhr in Bautzen\, Saal des SNE (anschließend Tanzveranstaltung)\nSonntag\, den 09. Februar um 16:00 Uhr in Hochkirch\, Ballhaus\nSonntag\, den 16. Februar um 16:00 Uhr in Schleife\, Sorbisches Kulturzentrum \n  \nTickets & Infos:  www.ansambl.de\nFotos: Martin Pižga \n
URL:https://serbski-kucik.de/event/lubosc-na-zolmach-wjecorny-ptaci-kwas/2025-02-16/
CATEGORIES:Dźiwadło
ATTACH;FMTTYPE=image/jpeg:https://serbski-kucik.de/wp-content/uploads/2025/01/ptaci-kwas.jpeg
END:VEVENT
END:VCALENDAR