BEGIN:VCALENDAR
VERSION:2.0
PRODID:-//serbski-kucik.de - ECPv4.9.14//NONSGML v1.0//EN
CALSCALE:GREGORIAN
METHOD:PUBLISH
X-WR-CALNAME:serbski-kucik.de
X-ORIGINAL-URL:https://serbski-kucik.de
X-WR-CALDESC:Veranstaltungen für serbski-kucik.de
BEGIN:VTIMEZONE
TZID:Europe/Berlin
BEGIN:DAYLIGHT
TZOFFSETFROM:+0100
TZOFFSETTO:+0200
TZNAME:CEST
DTSTART:20210328T010000
END:DAYLIGHT
BEGIN:STANDARD
TZOFFSETFROM:+0200
TZOFFSETTO:+0100
TZNAME:CET
DTSTART:20211031T010000
END:STANDARD
END:VTIMEZONE
BEGIN:VEVENT
DTSTART;TZID=Europe/Berlin:20210505T150000
DTEND;TZID=Europe/Berlin:20210505T170000
DTSTAMP:20260421T064350
CREATED:20200724T073440Z
LAST-MODIFIED:20200805T070734Z
UID:697-1620226800-1620234000@serbski-kucik.de
SUMMARY:KUS hinak – MAŁE WAMPIRY
DESCRIPTION:\n– premjera – \nAnouk\, něhdźe 12lětna holca\, bydli w zanjesenym hnězdźe a wostudu pase. Něšto wotměny by jej woprawdźe tyło. Derje tuž\, zo je w susodstwje nowa swójba zaćahnyła. Z holcu móhła sej snano hrajkać? Ta pak zda so tróšku wonajka być\, so dźiwnje drasći a rěka Kimba! Wyše toho je hotowa plapotawa\, jej spochi na šiju łazy a čuwy rubi. A štož je wosebje spodźiwne: w swojej stwě nima žanych mebli\, jenož wulku kistu při sćěnje. Jako Anouk tež hišće zwěsći\, zo Kimba žadyn wobraz w špihelu nima a kobołk zacpěwa\, jej zaswita: Kimba je wampir! Tola wona njeje normalny wampir! Chce hinaša być\, tak kaž čłowjekojo! Tohodla tež čłowječu krej wotpokaza a spyta Anouk jako přećelku zdobyć. Hakle wěrne přećelstwo čłowjeka by ju z wampiriskeho byća wuswobodźiło! Kimba ma krutu wolu\, swój són zwoprawdźić. K tomu pak njeje jenož trjeba\, zo Anouk swoje předsudki jej napřećo přewinje\, Kimba dyrbi so tež njewustawacym nadběham swojich njelubych krejlačnych kuzenkow\, wampirow stareje šule\, dowobróć. \nHraja šulerki a šulerjo Serbskeje zakładneje šule “Jurij Chěžka” Chrósćicy\, Serbskeje zakładneje šule Ralbicy a Serbskeho gymnazija Budyšin. \n
URL:https://serbski-kucik.de/event/kus-hinak-male-wampiry/
LOCATION:Burgtheater Bautzen\, kleiner Saal\, Ortenburg 7\, 02625 Bautzen
CATEGORIES:Dźiwadło
ATTACH;FMTTYPE=image/jpeg:https://serbski-kucik.de/wp-content/uploads/2020/07/2020_07_09_Platzhalterbild_SerbskiKucik.jpg
END:VEVENT
END:VCALENDAR