BEGIN:VCALENDAR
VERSION:2.0
PRODID:-//serbski-kucik.de - ECPv4.9.14//NONSGML v1.0//EN
CALSCALE:GREGORIAN
METHOD:PUBLISH
X-WR-CALNAME:serbski-kucik.de
X-ORIGINAL-URL:https://serbski-kucik.de
X-WR-CALDESC:Veranstaltungen für serbski-kucik.de
BEGIN:VTIMEZONE
TZID:Europe/Berlin
BEGIN:DAYLIGHT
TZOFFSETFROM:+0100
TZOFFSETTO:+0200
TZNAME:CEST
DTSTART:20200329T010000
END:DAYLIGHT
BEGIN:STANDARD
TZOFFSETFROM:+0200
TZOFFSETTO:+0100
TZNAME:CET
DTSTART:20201025T010000
END:STANDARD
BEGIN:DAYLIGHT
TZOFFSETFROM:+0100
TZOFFSETTO:+0200
TZNAME:CEST
DTSTART:20210328T010000
END:DAYLIGHT
BEGIN:STANDARD
TZOFFSETFROM:+0200
TZOFFSETTO:+0100
TZNAME:CET
DTSTART:20211031T010000
END:STANDARD
END:VTIMEZONE
BEGIN:VEVENT
DTSTART;TZID=Europe/Berlin:20201102T183000
DTEND;TZID=Europe/Berlin:20210118T200000
DTSTAMP:20260420T221933
CREATED:20201006T093527Z
LAST-MODIFIED:20201006T100818Z
UID:952-1604341800-1611000000@serbski-kucik.de
SUMMARY:Kurs Hornjoserbšćiny
DESCRIPTION:Na Ludowej šuli w Drježdźanach wotměje so kurs serbšćiny za započatkarjow\, a to wot 02.11.2020 do 18.01.2021. Zajimcy so njech prošu pod 0351/25440-37 přizjewja. \npřinošk: 123€ \n
URL:https://serbski-kucik.de/event/kurs-hornjoserbsciny/
LOCATION:Wyša šula\, Annenstraße 10\, 01067 Drježdźany
CATEGORIES:Kultura
ATTACH;FMTTYPE=image/jpeg:https://serbski-kucik.de/wp-content/uploads/2020/10/school-926213_1920.jpg
END:VEVENT
END:VCALENDAR