BEGIN:VCALENDAR
VERSION:2.0
PRODID:-//serbski-kucik.de - ECPv4.9.14//NONSGML v1.0//EN
CALSCALE:GREGORIAN
METHOD:PUBLISH
X-WR-CALNAME:serbski-kucik.de
X-ORIGINAL-URL:https://serbski-kucik.de
X-WR-CALDESC:Veranstaltungen für serbski-kucik.de
BEGIN:VTIMEZONE
TZID:Europe/Berlin
BEGIN:DAYLIGHT
TZOFFSETFROM:+0100
TZOFFSETTO:+0200
TZNAME:CEST
DTSTART:20230326T010000
END:DAYLIGHT
BEGIN:STANDARD
TZOFFSETFROM:+0200
TZOFFSETTO:+0100
TZNAME:CET
DTSTART:20231029T010000
END:STANDARD
END:VTIMEZONE
BEGIN:VEVENT
DTSTART;TZID=Europe/Berlin:20230603T150000
DTEND;TZID=Europe/Berlin:20230603T235900
DTSTAMP:20260420T210553
CREATED:20230531T073812Z
LAST-MODIFIED:20230531T073902Z
UID:2145-1685804400-1685836740@serbski-kucik.de
SUMMARY:KrassBrass festiwal
DESCRIPTION:KrassBrass je festiwal brassoweje hudźby. Wot klasiki hač do moderny – chcemy wam pokazać kak mnohostronska dujerska hudźba być móže. Tohodla chcemy z wami hromadźe jedyn z najwjetšich dujerskich open-air-festiwalow Łužicy swjećić!\nNa jewišću wočakuje was pisany program:\nTak nam na tutym wječoru dujerska kapała „Horjany” a “Chróšćanscy dujerjo” serbsku\, čěsku a morawsku dujersku hudźbu zahrajetaj. Ale nic jenož „klasiska” dujerska hudźba so zahudźi\, ale tež moderniše beaty so zaklinča – wězo wšitko hrate z dujerskimi instrumentami. Wo to postaraja so „Balkaneros“ z Drježdźan (Balkan Brass) a skupina „BrassWoofer“ z Hannovera (Urban Brass\, hiphop-Brasse). K zakónčenju napołoži \,\,DJ KrassBrass-Plattendreher“ někotrych brassowych klasikarjow w techno-woblečenju.\nPři tutej kombinaciji je tola za wšěch něšto pódla – wjeselimy so na was! \nKrassBrass wotměwa so 03.06.2023 w Hórkach (01920) při sportnišću \nProgram:\nZastup wot 15:00 hodź\n16:00 hodź: Chróšćanscy muzikanća\n18:30 hodź: Dujerska kapała Horjany\n21:00 hodź: Balkaneros\n22:30 hodź: BrassWoofer\n00:00 hodź: KrassBrass-Plattendreher \nKartki płaća 15€ a dawaja w předpředań kaž tež při wječornej kasy. Kartki za předpředań namakaće tu. \nDźěći z a hač do 14 lět maja swobodny zastup. \n  \nKrassBrass ist ein Festival der Brass-Musik. Von Klassik bis Modern – wir wollen euch zeigen wie vielfältig die Blasmusik sein kann. Deshalb wollen wir mit euch zusammen eines der größten Open-Air-Blasmusikfestivals der Lausitz feiern!\nAuf der Bühne erwartet euch ein buntes Programm:\nSo spielen uns an diesem Abend die Blaskapelle „Horjany” und die „Crostwitzer Blasmusikanten” sorbische\, tschechische und mährische Blasmusik auf. Aber nicht nur „klassische” Blasmusik wird aufgespielt\, sondern auch modernere Beats werden erklingen – natürlich alles gespielt mit Blasinstrumenten. Dafür sorgen die „Balkaneros“ aus Dresden (Balkan Brass) und die Gruppe „BrassWoofer“ aus Hannover (Urban Brass\, Hip-Hop-Brass). Zum Abschluss legt der KrassBrass-Plattendreher einige Brass-Klassiker im Techno-Gewand auf.\nBei dieser Kombination ist doch für alle etwas dabei – wir freuen uns auf euch! \nKrassBrass findet am 03.06.2023 in Horka (01920) am Sportplatz statt. \nProgramm:\nEinlass ab 15:00 Uhr\n16:00 Uhr: Crostwitzer Blasmusikanten\n18:30 Uhr: Blaskapelle Horjany\n21:00 Uhr: Balkaneros\n22:30 Uhr: BrassWoofer\n00:00 Uhr: KrassBrass-Plattendreher \nDie Tickets kosten 15 € und sind im Vorverkauf sowie an der Abendkasse erhältlich. Ab sofort findet ihr die Tickets für den Vorverkauf hier. \nFür Kinder bis einschließlich 14 Jahre ist unser Event kostenlos. \n
URL:https://serbski-kucik.de/event/krassbrass-festiwal/
LOCATION:Hórki/Horka bei Crostwitz
CATEGORIES:Hudźba,Młodźina
ATTACH;FMTTYPE=image/jpeg:https://serbski-kucik.de/wp-content/uploads/2023/05/2023_04_28_KrassBrass_Plakat_FINAL-scaled.jpg
END:VEVENT
END:VCALENDAR