BEGIN:VCALENDAR
VERSION:2.0
PRODID:-//serbski-kucik.de - ECPv4.9.14//NONSGML v1.0//EN
CALSCALE:GREGORIAN
METHOD:PUBLISH
X-WR-CALNAME:serbski-kucik.de
X-ORIGINAL-URL:https://serbski-kucik.de
X-WR-CALDESC:Veranstaltungen für serbski-kucik.de
BEGIN:VTIMEZONE
TZID:Europe/Berlin
BEGIN:DAYLIGHT
TZOFFSETFROM:+0100
TZOFFSETTO:+0200
TZNAME:CEST
DTSTART:20200329T010000
END:DAYLIGHT
BEGIN:STANDARD
TZOFFSETFROM:+0200
TZOFFSETTO:+0100
TZNAME:CET
DTSTART:20201025T010000
END:STANDARD
END:VTIMEZONE
BEGIN:VEVENT
DTSTART;TZID=Europe/Berlin:20200412T124500
DTEND;TZID=Europe/Berlin:20200412T141500
DTSTAMP:20260420T203934
CREATED:20200320T152143Z
LAST-MODIFIED:20200330T071333Z
UID:517-1586695500-1586700900@serbski-kucik.de
SUMMARY:Klóšter na Chrósćicy
DESCRIPTION:\nwotprajene\n12.45 – 14.15 hodź\nPančicy-Kukow (Klóšter Marijina Hwězda)\, Stara Cyhelnica\, Chrósćicy\nPuć wróćo: 15.00 – 17.30 hodź\nChrósćicy\, Zejicy\, do Swinjarnje w 16.30 hodź.\, wot Swinjarnje w 17.00 hodź.\, Pančicy-Kukow (Klóšter Marijina Hwězda) \n
URL:https://serbski-kucik.de/event/kloster-na-chroscicy/
CATEGORIES:Nabožina
ATTACH;FMTTYPE=image/jpeg:https://serbski-kucik.de/wp-content/uploads/2020/03/Panschwitz.jpg
END:VEVENT
END:VCALENDAR