BEGIN:VCALENDAR
VERSION:2.0
PRODID:-//serbski-kucik.de - ECPv4.9.14//NONSGML v1.0//EN
CALSCALE:GREGORIAN
METHOD:PUBLISH
X-WR-CALNAME:serbski-kucik.de
X-ORIGINAL-URL:https://serbski-kucik.de
X-WR-CALDESC:Veranstaltungen für serbski-kucik.de
BEGIN:VTIMEZONE
TZID:Europe/Berlin
BEGIN:DAYLIGHT
TZOFFSETFROM:+0100
TZOFFSETTO:+0200
TZNAME:CEST
DTSTART:20230326T010000
END:DAYLIGHT
BEGIN:STANDARD
TZOFFSETFROM:+0200
TZOFFSETTO:+0100
TZNAME:CET
DTSTART:20231029T010000
END:STANDARD
END:VTIMEZONE
BEGIN:VEVENT
DTSTART;TZID=Europe/Berlin:20230915T170000
DTEND;TZID=Europe/Berlin:20230915T213000
DTSTAMP:20260421T154838
CREATED:20231031T110205Z
LAST-MODIFIED:20231031T110205Z
UID:2369-1694797200-1694813400@serbski-kucik.de
SUMMARY:Kino w klubje
DESCRIPTION:17:00 hodź. film zy dźěći\n19:30 hodź. P16 film \n
URL:https://serbski-kucik.de/event/kino-w-klubje-2/
CATEGORIES:Młodźina,Swójby
ATTACH;FMTTYPE=image/jpeg:https://serbski-kucik.de/wp-content/uploads/2023/10/20230915.jpg
END:VEVENT
END:VCALENDAR