BEGIN:VCALENDAR
VERSION:2.0
PRODID:-//serbski-kucik.de - ECPv4.9.14//NONSGML v1.0//EN
CALSCALE:GREGORIAN
METHOD:PUBLISH
X-WR-CALNAME:serbski-kucik.de
X-ORIGINAL-URL:https://serbski-kucik.de
X-WR-CALDESC:Veranstaltungen für serbski-kucik.de
BEGIN:VTIMEZONE
TZID:Europe/Berlin
BEGIN:DAYLIGHT
TZOFFSETFROM:+0100
TZOFFSETTO:+0200
TZNAME:CEST
DTSTART:20200329T010000
END:DAYLIGHT
BEGIN:STANDARD
TZOFFSETFROM:+0200
TZOFFSETTO:+0100
TZNAME:CET
DTSTART:20201025T010000
END:STANDARD
END:VTIMEZONE
BEGIN:VEVENT
DTSTART;TZID=Europe/Berlin:20200909T200000
DTEND;TZID=Europe/Berlin:20200909T220000
DTSTAMP:20260422T094011
CREATED:20200826T130146Z
LAST-MODIFIED:20200826T130146Z
UID:818-1599681600-1599688800@serbski-kucik.de
SUMMARY:KINO: Sibyl – Therapie Zwecklos
DESCRIPTION:Komödie\, Drama / FR\, BE / 2019 / 100 min. / FSK 12 \nDie Psychotherapeutin Sibyl (Virginie Efira) beschließt\, sich wieder ihrer eigentlichen Leidenschaft zu widmen: dem Schreiben. Inspiration findet sie bei ihrer neuen Patientin Margot (Adèle Exarchopoulos)\, einer jungen Schauspielerin am Rande des Nervenzusammenbruchs. Sibyl taucht immer tiefer in Margots turbulentes Leben ein\, bricht alle professionellen Regeln und wird dabei mehr und mehr mit ihrer eigenen Vergangenheit konfrontiert. Als Sibyl an ein Filmset direkt am Vulkan Stromboli reist\, um Margot psychologisch zu unterstützen\, gerät ihr mühsam geordnetes Leben völlig aus den Fugen. \nEinlass ab 19:00 Uhr\nKinokasse: 6\,00 € \n
URL:https://serbski-kucik.de/event/kino-sibyl-therapie-zwecklos/
LOCATION:Steinhaus Bautzen
CATEGORIES:Kultura
ATTACH;FMTTYPE=image/jpeg:https://serbski-kucik.de/wp-content/uploads/2020/08/SteinhausKino_Sibyl_02_2019-Alamode-Film-scaled.jpg
END:VEVENT
END:VCALENDAR