BEGIN:VCALENDAR
VERSION:2.0
PRODID:-//serbski-kucik.de - ECPv4.9.14//NONSGML v1.0//EN
CALSCALE:GREGORIAN
METHOD:PUBLISH
X-WR-CALNAME:serbski-kucik.de
X-ORIGINAL-URL:https://serbski-kucik.de
X-WR-CALDESC:Veranstaltungen für serbski-kucik.de
BEGIN:VTIMEZONE
TZID:Europe/Berlin
BEGIN:DAYLIGHT
TZOFFSETFROM:+0100
TZOFFSETTO:+0200
TZNAME:CEST
DTSTART:20200329T010000
END:DAYLIGHT
BEGIN:STANDARD
TZOFFSETFROM:+0200
TZOFFSETTO:+0100
TZNAME:CET
DTSTART:20201025T010000
END:STANDARD
END:VTIMEZONE
BEGIN:VEVENT
DTSTART;TZID=Europe/Berlin:20200923T200000
DTEND;TZID=Europe/Berlin:20200923T220000
DTSTAMP:20260421T044443
CREATED:20200826T131215Z
LAST-MODIFIED:20200826T131227Z
UID:827-1600891200-1600898400@serbski-kucik.de
SUMMARY:KINO: Leif In Concert – Vol. 2
DESCRIPTION:Drama\, Komödie\, Musikfilm / DE / 2019 / 101 min. \nLeif soll ein Konzert spielen – in einer Jazz-Blues-Bar irgendwo in Deutschland. Auf der Bühne heißt er Poorboy und er kommt aus Kopenhagen. Dort hat die Barfrau Lene sein Konzert gesehen. Fasziniert von Leifs Musik hat sie ihn in ihre Bar nach Deutschland eingeladen. \n„Leif in Concert“ begleitet Lene an einem Tag in der Bar\, dem Tag des geplanten Konzertes. Es ist Lenes erster Arbeitstag nach einer längeren Auszeit. Es kommen Freunde und Bekannte in die Bar aber auch Menschen\, die sie noch nicht kennt. Lieferanten bringen ihre Waren\, befreundete Musiker dürfen in der Bar proben. Jedem spielt Lene Leifs Musik vor\, und in jedem löst die Musik etwas aus\, ein Lächeln\, eine Erinnerung oder den unbändigen Wunsch zu tanzen. Und da eine Bar nichts wäre ohne ihr Stammpublikum\, erzählt „Leif in Concert” auch die Geschichten der Bargäste. Quasi vom Nachbartisch belauschen wir Gespräche zu den verschiedensten Themen. Da geht es um Elfenpop\, unsichtbare Handys\, die Schneckenfrau oder Maden\, die sich durch Leichen fressen. \nDie Geschichten und Lebenswege der Gäste und Mitarbeiter der Kneipe\, so unterschiedlich sie auch sind\, finden hier zueinander\, durch Lene und durch die Musik. Und jede dieser kleinen Begebenheiten ist ein Stück von Lenes großer Geschichte\, von dieser Familie\, die dieses dunkle verrauchte Kellerlokal zum schönsten Ort der Welt macht. Doch in Lenes Leben ist nicht alles eitel Sonnenschein. Es gibt Entscheidungen und Konflikte\, vor denen sie sich drückt. Welcher Weg liegt vor ihr? Und was wäre\, wenn das Konzert gar nicht stattfinden kann\, wenn eine Kleinigkeit all ihre Planungen in Gefahr bringt? \nEinlass ab 19:00 Uhr\nKinokasse: 6\,00 € \n
URL:https://serbski-kucik.de/event/kino-leif-in-concert-vol-2/
LOCATION:Steinhaus Bautzen
CATEGORIES:Kultura
ATTACH;FMTTYPE=image/jpeg:https://serbski-kucik.de/wp-content/uploads/2020/08/SteinhausKino_LeifInConcert_02_c-2020-missingFILMs-Filmverleih-Weltvertrieb-scaled.jpeg
END:VEVENT
END:VCALENDAR