BEGIN:VCALENDAR
VERSION:2.0
PRODID:-//serbski-kucik.de - ECPv4.9.14//NONSGML v1.0//EN
CALSCALE:GREGORIAN
METHOD:PUBLISH
X-WR-CALNAME:serbski-kucik.de
X-ORIGINAL-URL:https://serbski-kucik.de
X-WR-CALDESC:Veranstaltungen für serbski-kucik.de
BEGIN:VTIMEZONE
TZID:Europe/Berlin
BEGIN:DAYLIGHT
TZOFFSETFROM:+0100
TZOFFSETTO:+0200
TZNAME:CEST
DTSTART:20200329T010000
END:DAYLIGHT
BEGIN:STANDARD
TZOFFSETFROM:+0200
TZOFFSETTO:+0100
TZNAME:CET
DTSTART:20201025T010000
END:STANDARD
END:VTIMEZONE
BEGIN:VEVENT
DTSTART;VALUE=DATE:20201018
DTEND;VALUE=DATE:20201019
DTSTAMP:20260421T004430
CREATED:20201007T074827Z
LAST-MODIFIED:20201007T074827Z
UID:974-1602979200-1603065599@serbski-kucik.de
SUMMARY:Kermuša
DESCRIPTION:Kermuša we Wotrowje\, Pančicach-Kukowje\, Šěrachowaje (Schirgiswalde) \, Korzymju (Kirschau)\, Chróstawje (Crostau)\, Wjelećinje (Withen)\, Chemberku\, Chwaćicach\, Šprjejcach (Spreewitz)\, Njeswačidle a Lubušu (Laubusch) \n
URL:https://serbski-kucik.de/event/kermusa-2/
CATEGORIES:Nabožina
ATTACH;FMTTYPE=image/jpeg:https://serbski-kucik.de/wp-content/uploads/2020/10/ben-white-W8Qqn1PmQH0-unsplash-scaled.jpg
END:VEVENT
END:VCALENDAR