BEGIN:VCALENDAR
VERSION:2.0
PRODID:-//serbski-kucik.de - ECPv4.9.14//NONSGML v1.0//EN
CALSCALE:GREGORIAN
METHOD:PUBLISH
X-WR-CALNAME:serbski-kucik.de
X-ORIGINAL-URL:https://serbski-kucik.de
X-WR-CALDESC:Veranstaltungen für serbski-kucik.de
BEGIN:VTIMEZONE
TZID:Europe/Berlin
BEGIN:DAYLIGHT
TZOFFSETFROM:+0100
TZOFFSETTO:+0200
TZNAME:CEST
DTSTART:20200329T010000
END:DAYLIGHT
BEGIN:STANDARD
TZOFFSETFROM:+0200
TZOFFSETTO:+0100
TZNAME:CET
DTSTART:20201025T010000
END:STANDARD
END:VTIMEZONE
BEGIN:VEVENT
DTSTART;TZID=Europe/Berlin:20200411T200000
DTEND;TZID=Europe/Berlin:20200411T230000
DTSTAMP:20260420T165609
CREATED:20200320T155410Z
LAST-MODIFIED:20200320T155410Z
UID:545-1586635200-1586646000@serbski-kucik.de
SUMMARY:Jutrowna nóc w Chrósćicach
DESCRIPTION:11.04.2020 | 20.00 \n
URL:https://serbski-kucik.de/event/jutrowna-noc-w-chroscicach/
CATEGORIES:Nabožina
ATTACH;FMTTYPE=image/jpeg:https://serbski-kucik.de/wp-content/uploads/2020/03/Jutrowna-nóc-w-Ralbicach.jpg
END:VEVENT
END:VCALENDAR