BEGIN:VCALENDAR
VERSION:2.0
PRODID:-//serbski-kucik.de - ECPv4.9.14//NONSGML v1.0//EN
CALSCALE:GREGORIAN
METHOD:PUBLISH
X-WR-CALNAME:serbski-kucik.de
X-ORIGINAL-URL:https://serbski-kucik.de
X-WR-CALDESC:Veranstaltungen für serbski-kucik.de
BEGIN:VTIMEZONE
TZID:Europe/Berlin
BEGIN:DAYLIGHT
TZOFFSETFROM:+0100
TZOFFSETTO:+0200
TZNAME:CEST
DTSTART:20250330T010000
END:DAYLIGHT
BEGIN:STANDARD
TZOFFSETFROM:+0200
TZOFFSETTO:+0100
TZNAME:CET
DTSTART:20251026T010000
END:STANDARD
END:VTIMEZONE
BEGIN:VEVENT
DTSTART;TZID=Europe/Berlin:20250404T080000
DTEND;TZID=Europe/Berlin:20250404T150000
DTSTAMP:20260421T071252
CREATED:20250221T111014Z
LAST-MODIFIED:20250221T111014Z
UID:3316-1743753600-1743778800@serbski-kucik.de
SUMMARY:JuLeiCa-wukubłanje
DESCRIPTION:Bórze startuje přichodne JuLeiCa-wukubłanje. Wšojedne\, hač sy hižo aktiwny/a abo nic\, tu dóstanješ trěbny know-how\, zo by zamołwitosć přewzał/a a wulkotne dožiwjenja wuhotował/a. \nhttps://www.junges-bistum-ddmei.de/sorbisch/terminy/event/1048:juleica-modul-ii-von-2-auf-sorbisch-erste-hilfe-am-15-03?catid=15 \n
URL:https://serbski-kucik.de/event/juleica-wukublanje/2025-04-04/
CATEGORIES:Nowosće
ATTACH;FMTTYPE=image/jpeg:https://serbski-kucik.de/wp-content/uploads/2025/02/Screenshot_20250221_111036_Instagram.jpg
END:VEVENT
END:VCALENDAR