BEGIN:VCALENDAR
VERSION:2.0
PRODID:-//serbski-kucik.de - ECPv4.9.14//NONSGML v1.0//EN
CALSCALE:GREGORIAN
METHOD:PUBLISH
X-WR-CALNAME:serbski-kucik.de
X-ORIGINAL-URL:https://serbski-kucik.de
X-WR-CALDESC:Veranstaltungen für serbski-kucik.de
BEGIN:VTIMEZONE
TZID:Europe/Berlin
BEGIN:DAYLIGHT
TZOFFSETFROM:+0100
TZOFFSETTO:+0200
TZNAME:CEST
DTSTART:20210328T010000
END:DAYLIGHT
BEGIN:STANDARD
TZOFFSETFROM:+0200
TZOFFSETTO:+0100
TZNAME:CET
DTSTART:20211031T010000
END:STANDARD
END:VTIMEZONE
BEGIN:VEVENT
DTSTART;TZID=Europe/Berlin:20210320T193000
DTEND;TZID=Europe/Berlin:20210320T220000
DTSTAMP:20260421T044338
CREATED:20200724T073351Z
LAST-MODIFIED:20200805T071846Z
UID:694-1616268600-1616277600@serbski-kucik.de
SUMMARY:Jaja z kraja
DESCRIPTION:\n– delnoserbska premjera w Hochozy – \nW kradu zanjasonej prowincy\, daloko pšec wót měsćańskeje hektiki\, wjedu protagonisty teje komedije spódobne a spokojne žywjenje. Ale něco rozsudnego felujo: za kuždy gjarnc góźbne wěko\, to groni za kuždego kjarla pšawe źowćo. Ale wótkul dobraś? Su kontaktowe anonse hyšći na casu? Abo póbituju chatowe rumy a wideowe portale w interneśe nacasnu móžnosć\, žeńske za žywjenje na jsy scomter tamnymi prawobydlarjami a jich zaběranjami à la treckertuning zagóriś?\nW tej komediji\, połnej komiskich wokognuśow a žednych kradu cłowjeskich dowiźenjow\, zagórjuju charaktery rowno tak ako dialogi. Wopšawdne žywjenje njeby to mógało žortnjej napisaś. Pśisamem by mógali Janoju\, Jensoju a Richardoju žycyś\, až njeby žeńske namakali\, až njeby se źiwadłowy wjacor žednje skóńcył. Dokulaž njejsmy graśe dla koronapandemije w slědnej grajnej dobje pśedstajaś mógali\, se něnto hyšći wěcej wjaselimy was w serbskem źiwadle witaś móc. No toś: dajśo se pśechwataś! \n
URL:https://serbski-kucik.de/event/jaja-z-kraja/
LOCATION:Drachhausen\, Gemeindezentrum
CATEGORIES:Dźiwadło
ATTACH;FMTTYPE=image/jpeg:https://serbski-kucik.de/wp-content/uploads/2020/07/Jaja-z-kraja-scaled.jpg
END:VEVENT
END:VCALENDAR